BEGIN:VCALENDAR
VERSION:2.0
PRODID:-//DavidsonNews.net Guide - ECPv3.7//NONSGML v1.0//EN
CALSCALE:GREGORIAN
METHOD:PUBLISH
X-WR-CALNAME:DavidsonNews.net Guide
X-ORIGINAL-URL:http://davidsonnews.net/guide
X-WR-CALDESC:Events for DavidsonNews.net Guide
BEGIN:VEVENT
DTSTART;VALUE=DATE-TIME:20150827T080000
DTEND;VALUE=DATE-TIME:20150827T100000
DTSTAMP:20150531T181615
CREATED:20150226T132117
LAST-MODIFIED:20150422T160725
UID:29396-1440662400-1440669600@http://davidsonnews.net/guide
SUMMARY:Cornelius Architecture Review Board
DESCRIPTION:The Cornelius Architectural Review Board meets on the fourth Thursday of each month from 8-10 a.m. at the Cornelius Town Hall. Meetings are open to the public.
URL:http://davidsonnews.net/guide/event/2015-02-27/2015-08-27/
LOCATION:21445 Catawba Avenue, Cornelius, NC, 28031, United States
CATEGORIES:Meetings
END:VEVENT
BEGIN:VEVENT
DTSTART;VALUE=DATE-TIME:20150827T100000
DTEND;VALUE=DATE-TIME:20150827T110000
DTSTAMP:20150531T181615
CREATED:20150226T123859
LAST-MODIFIED:20150226T123859
UID:29373-1440669600-1440673200@http://davidsonnews.net/guide
SUMMARY:Spanish Story Time
DESCRIPTION:Connections that Count\, a Spanish story time\, is on Thursdays at 10 a.m. at the Cornelius Library. A Spanish story time prepares children for school with music\, games\, dancing and crafts. No registration required. For children of all ages and families.    Conexiones que cuentan\, Thursdays at 10 a.m. at the Cornelius library. Un tiempo de cuentos en español con música\, juegos\, baile y manualidades con el fin de preparer a su hijo/a para la escuela.
URL:http://davidsonnews.net/guide/event/spanish-story-time/2015-08-27/
LOCATION:21105 Catawba Ave, Cornelius, NC, 28031, United States
CATEGORIES:Kids,Library events,Literature,Music
END:VEVENT
BEGIN:VEVENT
DTSTART;VALUE=DATE-TIME:20150827T180000
DTEND;VALUE=DATE-TIME:20150827T190000
DTSTAMP:20150531T181615
CREATED:20140902T214555
LAST-MODIFIED:20150105T110259
UID:27863-1440698400-1440702000@http://davidsonnews.net/guide
SUMMARY:Toastmasters at the Lake
DESCRIPTION:Toastmasters is a nationally recognized group whose members are working to improve their speaking and leadership skills with others in a supportive environment. Each meeting gives everyone an opportunity to practice conducting meetings\, giving impromptu speeches\, presenting prepared speeches\, and offering constructive evaluation. The group meets every Thursday\, 6-7pm and guests are welcome.
URL:http://davidsonnews.net/guide/event/toastmasters-at-the-lake/2015-08-27/
LOCATION:517 Alcove Rd,Suite 202 , Mooresville, NC, United States
GEO:-80.859772;35.552675
CATEGORIES:Business,Meetings,Networking
ORGANIZER;CN=Jessica Keyes:MAILTO:VAExtraordinaire@aol.com
END:VEVENT
BEGIN:VEVENT
DTSTART;VALUE=DATE-TIME:20150827T203000
DTEND;VALUE=DATE-TIME:20150827T224500
DTSTAMP:20150531T181615
CREATED:20150308T122239
LAST-MODIFIED:20150308T150447
UID:29815-1440707400-1440715500@http://davidsonnews.net/guide
SUMMARY:Live Music at The Corkscrew
DESCRIPTION:The Corkscrew is proud to feature live music on Thursday\, Friday and Saturday starting at 8:30 p.m. Also come by Sunday afternoon\, when you can enjoy jazz starting at 3 p.m.
URL:http://davidsonnews.net/guide/event/live-music-at-the-corkscrew-5-2015-03-19/2015-08-27/
LOCATION:16916 Birkdale Commons Pkwy, Huntersville, NC, 28078, United States
CATEGORIES:Food & Drink,Music
END:VEVENT
BEGIN:VEVENT
DTSTART;VALUE=DATE-TIME:
DTEND;VALUE=DATE-TIME:
DTSTAMP:20150531T181615
CREATED:0
LAST-MODIFIED:0
UID:0--@http://davidsonnews.net/guide
SUMMARY:
DESCRIPTION:
URL:
END:VEVENT
END:VCALENDAR