BEGIN:VCALENDAR
VERSION:2.0
PRODID:-//DavidsonNews.net Guide - ECPv3.7//NONSGML v1.0//EN
CALSCALE:GREGORIAN
METHOD:PUBLISH
X-WR-CALNAME:DavidsonNews.net Guide
X-ORIGINAL-URL:http://davidsonnews.net/guide
X-WR-CALDESC:Events for DavidsonNews.net Guide
BEGIN:VEVENT
DTSTART;VALUE=DATE-TIME:20150825T100000
DTEND;VALUE=DATE-TIME:20150825T110000
DTSTAMP:20150531T181710
CREATED:20150224T213709
LAST-MODIFIED:20150224T213709
UID:29171-1440496800-1440500400@http://davidsonnews.net/guide
SUMMARY:Daylily Book Club Meeting
DESCRIPTION:The Daylily Book Club meets at the Cornelius Library on the fourth Tuesday of the month at 10 a.m. All adults welcome; no registration required.
URL:http://davidsonnews.net/guide/event/daylily-book-club-meeting-2/2015-08-25/
LOCATION:21105 Catawba Ave, Cornelius, NC, 28031, United States
CATEGORIES:Library events,Literature,Meetings
END:VEVENT
BEGIN:VEVENT
DTSTART;VALUE=DATE-TIME:20150825T160000
DTEND;VALUE=DATE-TIME:20150825T170000
DTSTAMP:20150531T181710
CREATED:20150105T103118
LAST-MODIFIED:20150126T083341
UID:27775-1440518400-1440522000@http://davidsonnews.net/guide
SUMMARY:Davidson Town Board work session
DESCRIPTION:The Davidson Board of Commissioners meets the second and fourth Tuesdays of  the month\, unless otherwise noted. The board typically gathers at 4pm for a pre-meeting in the administrative conference room\, followed by the regular meeting at 6pm in the Town Board meeting room. Both meetings are open to the public. Agendas are usually available a few days before at the link below.  
URL:http://davidsonnews.net/guide/event/davidson-town-board-work-session-2-2015-02-24/2015-08-25/
LOCATION:216 S. Main St., Davidson, NC, 28036, United States
CATEGORIES:Meetings
END:VEVENT
BEGIN:VEVENT
DTSTART;VALUE=DATE-TIME:20150825T200000
DTEND;VALUE=DATE-TIME:20150825T220000
DTSTAMP:20150531T181710
CREATED:20150215T142651
LAST-MODIFIED:20150215T143312
UID:28867-1440532800-1440540000@http://davidsonnews.net/guide
SUMMARY:LKN Comedy Zone
DESCRIPTION:The Galway Hooker operates the only Lake Norman based comedy club. Part of the Comedy Zones of America network and partnered with Heffron Talent\, the club offers national and celebrity acts each and every Tuesday.
URL:http://davidsonnews.net/guide/event/lkn-comedy-zone-2-2015-03-31/2015-08-25/
LOCATION:17044 Kenton Drive, Cornelius, NC, 28031, United States
CATEGORIES:Comedy
END:VEVENT
BEGIN:VEVENT
DTSTART;VALUE=DATE-TIME:
DTEND;VALUE=DATE-TIME:
DTSTAMP:20150531T181710
CREATED:0
LAST-MODIFIED:0
UID:0--@http://davidsonnews.net/guide
SUMMARY:
DESCRIPTION:
URL:
END:VEVENT
END:VCALENDAR