BEGIN:VCALENDAR
VERSION:2.0
PRODID:-//DavidsonNews.net Guide - ECPv3.7//NONSGML v1.0//EN
CALSCALE:GREGORIAN
METHOD:PUBLISH
X-WR-CALNAME:DavidsonNews.net Guide
X-ORIGINAL-URL:http://davidsonnews.net/guide
X-WR-CALDESC:Events for DavidsonNews.net Guide
BEGIN:VEVENT
DTSTART;VALUE=DATE-TIME:20150821T203000
DTEND;VALUE=DATE-TIME:20150821T233000
DTSTAMP:20150531T181700
CREATED:20150308T123947
LAST-MODIFIED:20150308T123947
UID:29855-1440189000-1440199800@http://davidsonnews.net/guide
SUMMARY:Live Music at The Corkscrew
DESCRIPTION:The Corkscrew is proud to feature live music on Thursday\, Friday and Saturday starting at 8:30 p.m. Also come by Sunday afternoon\, when you can enjoy jazz starting at 3 p.m.
URL:http://davidsonnews.net/guide/event/live-music-at-the-corkscrew-6/2015-08-21/
LOCATION:16916 Birkdale Commons Pkwy, Huntersville, NC, 28078, United States
CATEGORIES:Food & Drink,Music
END:VEVENT
BEGIN:VEVENT
DTSTART;VALUE=DATE-TIME:20150821T223000
DTEND;VALUE=DATE-TIME:20150821T223000
DTSTAMP:20150531T181700
CREATED:20150226T171841
LAST-MODIFIED:20150226T180730
UID:29459-1440196200-1440196200@http://davidsonnews.net/guide
SUMMARY:Live Music: The Rusty Rudder
DESCRIPTION:Enjoy live music Friday and Saturday nights at The Rusty Rudder in Cornelius beginning at 10:30 p.m.
URL:http://davidsonnews.net/guide/event/live-music-the-rusty-rudder-13-2015-03-27-2015-06-12/2015-08-21/
LOCATION:20210 Henderson Road, Cornelius, NC, 28031, United States
CATEGORIES:Music
END:VEVENT
BEGIN:VEVENT
DTSTART;VALUE=DATE-TIME:20150821T223000
DTEND;VALUE=DATE-TIME:20150822T003000
DTSTAMP:20150531T181700
CREATED:20150226T183311
LAST-MODIFIED:20150226T183311
UID:29552-1440196200-1440203400@http://davidsonnews.net/guide
SUMMARY:Live Music: The Rusty Rudder
DESCRIPTION:Enjoy live music Friday and Saturday nights at The Rusty Rudder in Cornelius beginning at 10:30 p.m.
URL:http://davidsonnews.net/guide/event/live-music-the-rusty-rudder-15/2015-08-21/
LOCATION:20210 Henderson Road, Cornelius, NC, 28031, United States
END:VEVENT
BEGIN:VEVENT
DTSTART;VALUE=DATE-TIME:
DTEND;VALUE=DATE-TIME:
DTSTAMP:20150531T181700
CREATED:0
LAST-MODIFIED:0
UID:0--@http://davidsonnews.net/guide
SUMMARY:
DESCRIPTION:
URL:
END:VEVENT
END:VCALENDAR