BEGIN:VCALENDAR
VERSION:2.0
PRODID:-//DavidsonNews.net Guide - ECPv3.7//NONSGML v1.0//EN
CALSCALE:GREGORIAN
METHOD:PUBLISH
X-WR-CALNAME:DavidsonNews.net Guide
X-ORIGINAL-URL:http://davidsonnews.net/guide
X-WR-CALDESC:Events for DavidsonNews.net Guide
BEGIN:VEVENT
DTSTART;VALUE=DATE-TIME:20150820T100000
DTEND;VALUE=DATE-TIME:20150820T110000
DTSTAMP:20150531T181613
CREATED:20150226T123859
LAST-MODIFIED:20150226T123859
UID:29372-1440064800-1440068400@http://davidsonnews.net/guide
SUMMARY:Spanish Story Time
DESCRIPTION:Connections that Count\, a Spanish story time\, is on Thursdays at 10 a.m. at the Cornelius Library. A Spanish story time prepares children for school with music\, games\, dancing and crafts. No registration required. For children of all ages and families.    Conexiones que cuentan\, Thursdays at 10 a.m. at the Cornelius library. Un tiempo de cuentos en español con música\, juegos\, baile y manualidades con el fin de preparer a su hijo/a para la escuela.
URL:http://davidsonnews.net/guide/event/spanish-story-time/2015-08-20/
LOCATION:21105 Catawba Ave, Cornelius, NC, 28031, United States
CATEGORIES:Kids,Library events,Literature,Music
END:VEVENT
BEGIN:VEVENT
DTSTART;VALUE=DATE-TIME:20150820T163000
DTEND;VALUE=DATE-TIME:20150820T173000
DTSTAMP:20150531T181613
CREATED:20150224T184149
LAST-MODIFIED:20150224T214053
UID:29143-1440088200-1440091800@http://davidsonnews.net/guide
SUMMARY:Girls Read Book Club
DESCRIPTION:The Girls Read Book Club meets the third Thursday of the month. Snacks provided. No registration required. For ages 7-11.
URL:http://davidsonnews.net/guide/event/girls-read-book-club-3/2015-08-20/
LOCATION:21105 Catawba Ave, Cornelius, NC, 28031, United States
CATEGORIES:Kids,Library events,Literature
END:VEVENT
BEGIN:VEVENT
DTSTART;VALUE=DATE-TIME:20150820T180000
DTEND;VALUE=DATE-TIME:20150820T190000
DTSTAMP:20150531T181613
CREATED:20140902T214555
LAST-MODIFIED:20150105T110259
UID:27862-1440093600-1440097200@http://davidsonnews.net/guide
SUMMARY:Toastmasters at the Lake
DESCRIPTION:Toastmasters is a nationally recognized group whose members are working to improve their speaking and leadership skills with others in a supportive environment. Each meeting gives everyone an opportunity to practice conducting meetings\, giving impromptu speeches\, presenting prepared speeches\, and offering constructive evaluation. The group meets every Thursday\, 6-7pm and guests are welcome.
URL:http://davidsonnews.net/guide/event/toastmasters-at-the-lake/2015-08-20/
LOCATION:517 Alcove Rd,Suite 202 , Mooresville, NC, United States
GEO:-80.859772;35.552675
CATEGORIES:Business,Meetings,Networking
ORGANIZER;CN=Jessica Keyes:MAILTO:VAExtraordinaire@aol.com
END:VEVENT
BEGIN:VEVENT
DTSTART;VALUE=DATE-TIME:20150820T194500
DTEND;VALUE=DATE-TIME:20150820T233000
DTSTAMP:20150531T181613
CREATED:20150203T130652
LAST-MODIFIED:20150218T162906
UID:28543-1440099900-1440113400@http://davidsonnews.net/guide
SUMMARY:OPEN MIC 2.0
DESCRIPTION:Every 1st and 3rd Thursday\, Bella Love is proud to feature an eclectic mix of exceptionally talented artists throughout the Greater Charlotte area. From bands and singer/songwriters to comedians\, poets and even visual artists\, Bella Love's Open Mic Night makes it easy to get connected to the heart of the creative community\, building powerful relationships and inspiring the soul!    [caption id="attachment_16268" align="alignleft" width="300"] A captive crowd can be found every 1st and 3rd Thursday of each month. (Serge Skiba photo)[/caption]    Join us at Kadi Fit in Oak Street Mill from 7:45 pm to 11:30 pm for an evening of incredible local entertainment\, weekly drink specials\, and the positive vibes you've come to expect!    All ages and genres welcome.  $5 cover ($3 for performers)  $3 CRAFT BEER SPECIALS!  $5 Wine  Free Raffle with give-a-ways from our friends at Lake Town Tavern    **To sign up for a spot\, leave a comment on the Facebook event page with the hour slot that you would prefer to play. We do our best to accommodate each request.
URL:http://davidsonnews.net/guide/event/open-mic-2-0-2-2015-03-19/2015-08-20/
LOCATION:19725 Oak Street, Cornelius, NC, 28031, United States
GEO:-80.860512;35.480714
ORGANIZER;CN=BellaLove, Inc.:MAILTO:cwarnemunde@bellalove.org
END:VEVENT
BEGIN:VEVENT
DTSTART;VALUE=DATE-TIME:20150820T203000
DTEND;VALUE=DATE-TIME:20150820T224500
DTSTAMP:20150531T181613
CREATED:20150308T122239
LAST-MODIFIED:20150308T150447
UID:29814-1440102600-1440110700@http://davidsonnews.net/guide
SUMMARY:Live Music at The Corkscrew
DESCRIPTION:The Corkscrew is proud to feature live music on Thursday\, Friday and Saturday starting at 8:30 p.m. Also come by Sunday afternoon\, when you can enjoy jazz starting at 3 p.m.
URL:http://davidsonnews.net/guide/event/live-music-at-the-corkscrew-5-2015-03-19/2015-08-20/
LOCATION:16916 Birkdale Commons Pkwy, Huntersville, NC, 28078, United States
CATEGORIES:Food & Drink,Music
END:VEVENT
BEGIN:VEVENT
DTSTART;VALUE=DATE-TIME:
DTEND;VALUE=DATE-TIME:
DTSTAMP:20150531T181613
CREATED:0
LAST-MODIFIED:0
UID:0--@http://davidsonnews.net/guide
SUMMARY:
DESCRIPTION:
URL:
END:VEVENT
END:VCALENDAR