BEGIN:VCALENDAR
VERSION:2.0
PRODID:-//DavidsonNews.net Guide - ECPv3.7//NONSGML v1.0//EN
CALSCALE:GREGORIAN
METHOD:PUBLISH
X-WR-CALNAME:DavidsonNews.net Guide
X-ORIGINAL-URL:http://davidsonnews.net/guide
X-WR-CALDESC:Events for DavidsonNews.net Guide
BEGIN:VEVENT
DTSTART;VALUE=DATE-TIME:20150819T103000
DTEND;VALUE=DATE-TIME:20150819T113000
DTSTAMP:20150531T181558
CREATED:20150226T120446
LAST-MODIFIED:20150226T121434
UID:29283-1439980200-1439983800@http://davidsonnews.net/guide
SUMMARY:Toddler Story Time
DESCRIPTION:Toddler Time Story Time takes place on Wednesdays at the Cornelius Library at 10:30 a.m. Toddlers will enjoy their own story time experience to encourage language development\, listening and social skills. For ages 18-35 months. Registration required by visiting cmlibrary.org/programs.
URL:http://davidsonnews.net/guide/event/toddler-story-time/2015-08-19/
LOCATION:21105 Catawba Ave, Cornelius, NC, 28031, United States
CATEGORIES:Kids,Library events,Literature,Music
END:VEVENT
BEGIN:VEVENT
DTSTART;VALUE=DATE-TIME:20150819T110000
DTEND;VALUE=DATE-TIME:20150819T140000
DTSTAMP:20150531T181558
CREATED:20150319T182542
LAST-MODIFIED:20150319T182542
UID:30162-1439982000-1439992800@http://davidsonnews.net/guide
SUMMARY:Lunch in the Lot
DESCRIPTION:Cornelius Cultural Arts Group (CCAG) brings a rotation of food trucks to the Oak Street Mill each Wednesday from 11 a.m.-2 p.m. To receive the schedule and menu\, email Info@WeAreCCAG.org
URL:http://davidsonnews.net/guide/event/lunch-in-the-lot/2015-08-19/
LOCATION:19725 Oak Street, Cornelius, NC, United States
GEO:-80.860512;35.480714
CATEGORIES:Food & Drink
ATTACH;FMTTYPE=image/jpeg:http://davidsonnews.net/guide/files/2015/03/Lunch-in-the-Lot-jpeg-e1426803894696.jpg
ORGANIZER;CN=BellaLove, Inc.:MAILTO:cwarnemunde@bellalove.org
END:VEVENT
BEGIN:VEVENT
DTSTART;VALUE=DATE-TIME:20150819T113000
DTEND;VALUE=DATE-TIME:20150819T123000
DTSTAMP:20150531T181558
CREATED:20150226T121248
LAST-MODIFIED:20150226T121248
UID:29327-1439983800-1439987400@http://davidsonnews.net/guide
SUMMARY:Preschool Story Time
DESCRIPTION:Preschool Story Time is held on Wednesdays at the Cornelius Library at 11:30 a.m. Preschoolers engage with books and activities that encourage language and pre-reading skills. Hear stories\, sing songs\, and develop the skills needed to become a successful reader. For ages 3-5. Registration required by visiting http://cmlibrary.org/programs/.
URL:http://davidsonnews.net/guide/event/preschool-story-time/2015-08-19/
LOCATION:21105 Catawba Ave, Cornelius, NC, 28031, United States
CATEGORIES:Kids,Library events,Literature,Music
END:VEVENT
BEGIN:VEVENT
DTSTART;VALUE=DATE-TIME:20150819T180000
DTEND;VALUE=DATE-TIME:20150819T193000
DTSTAMP:20150531T181558
CREATED:20150104T204655
LAST-MODIFIED:20150104T204655
UID:27812-1440007200-1440012600@http://davidsonnews.net/guide
SUMMARY:Davidson Toastmasters 
DESCRIPTION:Davidson Toastmasters meets every Wednesday night at the Lake Norman YMCA\, open to business\, PTA or church leaders\, entrepreneurs\, or anyone who wants to improve their communications skills. Registration and Information: Anette Powell\, 704-655-7479 or anettepowell@aol.com
URL:http://davidsonnews.net/guide/event/davidson-toastmasters/2015-08-19/
LOCATION:21300 Davidson St., Cornelius, NC, 28031, United States
CATEGORIES:Business,Classes,Networking
END:VEVENT
BEGIN:VEVENT
DTSTART;VALUE=DATE-TIME:
DTEND;VALUE=DATE-TIME:
DTSTAMP:20150531T181558
CREATED:0
LAST-MODIFIED:0
UID:0--@http://davidsonnews.net/guide
SUMMARY:
DESCRIPTION:
URL:
END:VEVENT
END:VCALENDAR