BEGIN:VCALENDAR
VERSION:2.0
PRODID:-//DavidsonNews.net Guide - ECPv3.7//NONSGML v1.0//EN
CALSCALE:GREGORIAN
METHOD:PUBLISH
X-WR-CALNAME:DavidsonNews.net Guide
X-ORIGINAL-URL:http://davidsonnews.net/guide
X-WR-CALDESC:Events for DavidsonNews.net Guide
BEGIN:VEVENT
DTSTART;VALUE=DATE-TIME:20150817T103000
DTEND;VALUE=DATE-TIME:20150817T113000
DTSTAMP:20150531T181649
CREATED:20150224T215926
LAST-MODIFIED:20150224T215926
UID:29203-1439807400-1439811000@http://davidsonnews.net/guide
SUMMARY:Baby Story Time
DESCRIPTION:Baby Story Time is held at the Cornelius Library on Mondays at 10:30 a.m. Babies experience brain stimulation through language and socialization. New sights and sounds are shared with a parent/caregiver through books\, songs\, and rhymes. For ages 0-17 months.    Registration is required at http://www.cmlibrary.org/programs/programlisting.asp?form_keyword=Baby+Storytime&amp;progtype1=&amp;ln1=&amp;form_Age=&amp;ds1=&amp;de1=&amp;x=0&amp;y=0.
URL:http://davidsonnews.net/guide/event/baby-story-time/2015-08-17/
LOCATION:21105 Catawba Ave, Cornelius, NC, 28031, United States
CATEGORIES:Kids,Library events,Literature
END:VEVENT
BEGIN:VEVENT
DTSTART;VALUE=DATE-TIME:20150817T120000
DTEND;VALUE=DATE-TIME:20150817T130000
DTSTAMP:20150531T181649
CREATED:20150303T194454
LAST-MODIFIED:20150303T194923
UID:29642-1439812800-1439816400@http://davidsonnews.net/guide
SUMMARY:Rotary Club of Davidson
DESCRIPTION:    The Rotary Club of Davidson meets on Mondays from noon-1 p.m. at the North Harbor Club in Davidson.    The organization is looking for new members who are interested in serving the community and the world in a variety of ways. Becoming a Rotarian is a great way to get involved in our community\, meet others who have a desire to serve and have fun building great relationships. The Rotary Club of Davidson works on local service projects for Ada Jenkins and the Davidson-Cornelius Child Development Center. Internationally\, the Rotary Club of Davidson supports the elimination of polio worldwide; and the building of water wells and smokeless stoves in Malawi and Guatemala.    Find out more by visiting our website at www.davidsonrotaryclub.org and like us on Facebook at Rotary Club of Davidson.  For more information about joining please contact John Reeves at 336-287-2597 or email at jreeves@aquestabank.com.    
URL:http://davidsonnews.net/guide/event/rotary-club-of-davidson-2015-04-06/2015-08-17/
LOCATION:100 N. Harbor Place Drive, Davidson, NC, 28036, United States
GEO:-80.86691;35.506275
CATEGORIES:Meetings,Service Opportunity
END:VEVENT
BEGIN:VEVENT
DTSTART;VALUE=DATE-TIME:20150817T190000
DTEND;VALUE=DATE-TIME:20150817T210000
DTSTAMP:20150531T181649
CREATED:20150105T102141
LAST-MODIFIED:20150119T100918
UID:27749-1439838000-1439845200@http://davidsonnews.net/guide
SUMMARY:Cornelius Town Board
DESCRIPTION:The Cornelius Board of Commissioners meets the first and third Monday evenings (unless otherwise noted). The Town Board normally convenes a pre-meeting at 6pm\, just before the regular meeting. The pre-meetings are held in Room 204\, Town Hall. Both meetings are open to the public. Agendas are usually available a few days before at the link below.
URL:http://davidsonnews.net/guide/event/cornelius-town-board-9-2015-08-17/2015-08-17/
LOCATION:21445 Catawba Ave., Cornelius, NC, 28031, United States
CATEGORIES:Meetings
END:VEVENT
BEGIN:VEVENT
DTSTART;VALUE=DATE-TIME:
DTEND;VALUE=DATE-TIME:
DTSTAMP:20150531T181649
CREATED:0
LAST-MODIFIED:0
UID:0--@http://davidsonnews.net/guide
SUMMARY:
DESCRIPTION:
URL:
END:VEVENT
END:VCALENDAR