BEGIN:VCALENDAR
VERSION:2.0
PRODID:-//DavidsonNews.net Guide - ECPv3.7//NONSGML v1.0//EN
CALSCALE:GREGORIAN
METHOD:PUBLISH
X-WR-CALNAME:DavidsonNews.net Guide
X-ORIGINAL-URL:http://davidsonnews.net/guide
X-WR-CALDESC:Events for DavidsonNews.net Guide
BEGIN:VEVENT
DTSTART;VALUE=DATE-TIME:20150813T100000
DTEND;VALUE=DATE-TIME:20150813T110000
DTSTAMP:20150531T181605
CREATED:20150226T123859
LAST-MODIFIED:20150226T123859
UID:29371-1439460000-1439463600@http://davidsonnews.net/guide
SUMMARY:Spanish Story Time
DESCRIPTION:Connections that Count\, a Spanish story time\, is on Thursdays at 10 a.m. at the Cornelius Library. A Spanish story time prepares children for school with music\, games\, dancing and crafts. No registration required. For children of all ages and families.    Conexiones que cuentan\, Thursdays at 10 a.m. at the Cornelius library. Un tiempo de cuentos en español con música\, juegos\, baile y manualidades con el fin de preparer a su hijo/a para la escuela.
URL:http://davidsonnews.net/guide/event/spanish-story-time/2015-08-13/
LOCATION:21105 Catawba Ave, Cornelius, NC, 28031, United States
CATEGORIES:Kids,Library events,Literature,Music
END:VEVENT
BEGIN:VEVENT
DTSTART;VALUE=DATE-TIME:20150813T180000
DTEND;VALUE=DATE-TIME:20150813T190000
DTSTAMP:20150531T181605
CREATED:20140902T214555
LAST-MODIFIED:20150105T110259
UID:27861-1439488800-1439492400@http://davidsonnews.net/guide
SUMMARY:Toastmasters at the Lake
DESCRIPTION:Toastmasters is a nationally recognized group whose members are working to improve their speaking and leadership skills with others in a supportive environment. Each meeting gives everyone an opportunity to practice conducting meetings\, giving impromptu speeches\, presenting prepared speeches\, and offering constructive evaluation. The group meets every Thursday\, 6-7pm and guests are welcome.
URL:http://davidsonnews.net/guide/event/toastmasters-at-the-lake/2015-08-13/
LOCATION:517 Alcove Rd,Suite 202 , Mooresville, NC, United States
GEO:-80.859772;35.552675
CATEGORIES:Business,Meetings,Networking
ORGANIZER;CN=Jessica Keyes:MAILTO:VAExtraordinaire@aol.com
END:VEVENT
BEGIN:VEVENT
DTSTART;VALUE=DATE-TIME:20150813T183000
DTEND;VALUE=DATE-TIME:20150813T200000
DTSTAMP:20150531T181605
CREATED:20150218T152429
LAST-MODIFIED:20150405T201135
UID:29022-1439490600-1439496000@http://davidsonnews.net/guide
SUMMARY:Lupus Support Group
DESCRIPTION:    The Lupus Foundation of America-North Carolina Chapter's NORTH CHARLOTTE support group holds its regular monthly meeting on the second Thursday of each month from 6:30-8 p.m. The meeting takes place at University City United Methodist Church in Charlotte in the Church Offices Building\, Room 109.    There is no charge to attend the meetings\, and drop-ins are welcome. Contact the LFANC at info@lupusnc.org or at 877-849-8271\, ext. 2. For more information\, visit www.lupusnc.org.    This group provides participants with an opportunity to receive introductory information about lupus\, encourage the expression of concerns\, provide an opportunity to share experiences\, encourage and support positive coping strategies\, and emphasize the importance of medical treatment. Meeting programs vary from guest speakers to DVD presentations and open group discussion.    
URL:http://davidsonnews.net/guide/event/lupus-support-group-2/2015-08-13/
CATEGORIES:Support groups
END:VEVENT
BEGIN:VEVENT
DTSTART;VALUE=DATE-TIME:20150813T203000
DTEND;VALUE=DATE-TIME:20150813T224500
DTSTAMP:20150531T181605
CREATED:20150308T122239
LAST-MODIFIED:20150308T150448
UID:29813-1439497800-1439505900@http://davidsonnews.net/guide
SUMMARY:Live Music at The Corkscrew
DESCRIPTION:The Corkscrew is proud to feature live music on Thursday\, Friday and Saturday starting at 8:30 p.m. Also come by Sunday afternoon\, when you can enjoy jazz starting at 3 p.m.
URL:http://davidsonnews.net/guide/event/live-music-at-the-corkscrew-5-2015-03-19/2015-08-13/
LOCATION:16916 Birkdale Commons Pkwy, Huntersville, NC, 28078, United States
CATEGORIES:Food & Drink,Music
END:VEVENT
BEGIN:VEVENT
DTSTART;VALUE=DATE-TIME:
DTEND;VALUE=DATE-TIME:
DTSTAMP:20150531T181605
CREATED:0
LAST-MODIFIED:0
UID:0--@http://davidsonnews.net/guide
SUMMARY:
DESCRIPTION:
URL:
END:VEVENT
END:VCALENDAR