BEGIN:VCALENDAR
VERSION:2.0
PRODID:-//DavidsonNews.net Guide - ECPv3.7//NONSGML v1.0//EN
CALSCALE:GREGORIAN
METHOD:PUBLISH
X-WR-CALNAME:DavidsonNews.net Guide
X-ORIGINAL-URL:http://davidsonnews.net/guide
X-WR-CALDESC:Events for DavidsonNews.net Guide
BEGIN:VEVENT
DTSTART;VALUE=DATE-TIME:20150812T103000
DTEND;VALUE=DATE-TIME:20150812T113000
DTSTAMP:20150531T181618
CREATED:20150226T120446
LAST-MODIFIED:20150226T121434
UID:29282-1439375400-1439379000@http://davidsonnews.net/guide
SUMMARY:Toddler Story Time
DESCRIPTION:Toddler Time Story Time takes place on Wednesdays at the Cornelius Library at 10:30 a.m. Toddlers will enjoy their own story time experience to encourage language development\, listening and social skills. For ages 18-35 months. Registration required by visiting cmlibrary.org/programs.
URL:http://davidsonnews.net/guide/event/toddler-story-time/2015-08-12/
LOCATION:21105 Catawba Ave, Cornelius, NC, 28031, United States
CATEGORIES:Kids,Library events,Literature,Music
END:VEVENT
BEGIN:VEVENT
DTSTART;VALUE=DATE-TIME:20150812T110000
DTEND;VALUE=DATE-TIME:20150812T140000
DTSTAMP:20150531T181618
CREATED:20150319T182542
LAST-MODIFIED:20150319T182542
UID:30161-1439377200-1439388000@http://davidsonnews.net/guide
SUMMARY:Lunch in the Lot
DESCRIPTION:Cornelius Cultural Arts Group (CCAG) brings a rotation of food trucks to the Oak Street Mill each Wednesday from 11 a.m.-2 p.m. To receive the schedule and menu\, email Info@WeAreCCAG.org
URL:http://davidsonnews.net/guide/event/lunch-in-the-lot/2015-08-12/
LOCATION:19725 Oak Street, Cornelius, NC, United States
GEO:-80.860512;35.480714
CATEGORIES:Food & Drink
ATTACH;FMTTYPE=image/jpeg:http://davidsonnews.net/guide/files/2015/03/Lunch-in-the-Lot-jpeg-e1426803894696.jpg
ORGANIZER;CN=BellaLove, Inc.:MAILTO:cwarnemunde@bellalove.org
END:VEVENT
BEGIN:VEVENT
DTSTART;VALUE=DATE-TIME:20150812T113000
DTEND;VALUE=DATE-TIME:20150812T123000
DTSTAMP:20150531T181618
CREATED:20150226T121248
LAST-MODIFIED:20150226T121248
UID:29326-1439379000-1439382600@http://davidsonnews.net/guide
SUMMARY:Preschool Story Time
DESCRIPTION:Preschool Story Time is held on Wednesdays at the Cornelius Library at 11:30 a.m. Preschoolers engage with books and activities that encourage language and pre-reading skills. Hear stories\, sing songs\, and develop the skills needed to become a successful reader. For ages 3-5. Registration required by visiting http://cmlibrary.org/programs/.
URL:http://davidsonnews.net/guide/event/preschool-story-time/2015-08-12/
LOCATION:21105 Catawba Ave, Cornelius, NC, 28031, United States
CATEGORIES:Kids,Library events,Literature,Music
END:VEVENT
BEGIN:VEVENT
DTSTART;VALUE=DATE-TIME:20150812T130000
DTEND;VALUE=DATE-TIME:20150812T143000
DTSTAMP:20150531T181618
CREATED:20150218T151407
LAST-MODIFIED:20150218T151407
UID:29010-1439384400-1439389800@http://davidsonnews.net/guide
SUMMARY:Lupus Support Group
DESCRIPTION:    The Lupus Foundation of America-North Carolina Chapter's CENTRAL CHARLOTTE support group will hold its regular monthly meeting on Wednesday\, March 11\, from 1-2:30 p.m. The meeting takes place at Myers Park Presbyterian Church in Charlotte in the Outreach Center-Room F102.    There is no charge to attend the meetings\, and drop-ins are welcome. Contact the LFANC at info@lupusnc.org or at 877-849-8271\, ext. 2. For more information\, visit www.lupusnc.org.    This group provides participants with an opportunity to receive introductory information about lupus\, encourage the expression of concerns\, provide an opportunity to share experiences\, encourage and support positive coping strategies\, and emphasize the importance of medical treatment. Meeting programs vary from guest speakers to DVD presentations and open group discussion.    *This group meets the second Wednesday of each month.    
URL:http://davidsonnews.net/guide/event/lupus-support-group/2015-08-12/
LOCATION:NC, United States
GEO:-79.0192997;35.7595731
CATEGORIES:Support groups
END:VEVENT
BEGIN:VEVENT
DTSTART;VALUE=DATE-TIME:20150812T180000
DTEND;VALUE=DATE-TIME:20150812T193000
DTSTAMP:20150531T181618
CREATED:20150104T204655
LAST-MODIFIED:20150104T204655
UID:27811-1439402400-1439407800@http://davidsonnews.net/guide
SUMMARY:Davidson Toastmasters 
DESCRIPTION:Davidson Toastmasters meets every Wednesday night at the Lake Norman YMCA\, open to business\, PTA or church leaders\, entrepreneurs\, or anyone who wants to improve their communications skills. Registration and Information: Anette Powell\, 704-655-7479 or anettepowell@aol.com
URL:http://davidsonnews.net/guide/event/davidson-toastmasters/2015-08-12/
LOCATION:21300 Davidson St., Cornelius, NC, 28031, United States
CATEGORIES:Business,Classes,Networking
END:VEVENT
BEGIN:VEVENT
DTSTART;VALUE=DATE-TIME:
DTEND;VALUE=DATE-TIME:
DTSTAMP:20150531T181618
CREATED:0
LAST-MODIFIED:0
UID:0--@http://davidsonnews.net/guide
SUMMARY:
DESCRIPTION:
URL:
END:VEVENT
END:VCALENDAR