BEGIN:VCALENDAR
VERSION:2.0
PRODID:-//DavidsonNews.net Guide - ECPv3.7//NONSGML v1.0//EN
CALSCALE:GREGORIAN
METHOD:PUBLISH
X-WR-CALNAME:DavidsonNews.net Guide
X-ORIGINAL-URL:http://davidsonnews.net/guide
X-WR-CALDESC:Events for DavidsonNews.net Guide
BEGIN:VEVENT
DTSTART;VALUE=DATE-TIME:20150806T090000
DTEND;VALUE=DATE-TIME:20150806T220000
DTSTAMP:20150531T181651
CREATED:20150303T200037
LAST-MODIFIED:20150506T140942
UID:29668-1438851600-1438898400@http://davidsonnews.net/guide
SUMMARY:Davidson Connections
DESCRIPTION:Davidson Connections\, a business networking meeting open to business owners\, home-based businesses\, nonprofit organizations\, event coordinators\, and Davidson citizens\, will be held Thursday\, March 5\, at 9 a.m. at Millstone Bakehouse &amp; Provisions  in Davidson (not the Davidson Town Hall as originally scheduled).    Davidson Connections meetings will be held on the first Thursday of every month at 9 a.m. in different locations around town. For more information\, please contact Kim Fleming at kfleming@townofdavidson.org.
URL:http://davidsonnews.net/guide/event/davidson-connections/2015-08-06/
LOCATION:NC, United States
CATEGORIES:Business,Meetings,Networking
END:VEVENT
BEGIN:VEVENT
DTSTART;VALUE=DATE-TIME:20150806T100000
DTEND;VALUE=DATE-TIME:20150806T110000
DTSTAMP:20150531T181651
CREATED:20150226T123859
LAST-MODIFIED:20150226T123859
UID:29370-1438855200-1438858800@http://davidsonnews.net/guide
SUMMARY:Spanish Story Time
DESCRIPTION:Connections that Count\, a Spanish story time\, is on Thursdays at 10 a.m. at the Cornelius Library. A Spanish story time prepares children for school with music\, games\, dancing and crafts. No registration required. For children of all ages and families.    Conexiones que cuentan\, Thursdays at 10 a.m. at the Cornelius library. Un tiempo de cuentos en español con música\, juegos\, baile y manualidades con el fin de preparer a su hijo/a para la escuela.
URL:http://davidsonnews.net/guide/event/spanish-story-time/2015-08-06/
LOCATION:21105 Catawba Ave, Cornelius, NC, 28031, United States
CATEGORIES:Kids,Library events,Literature,Music
END:VEVENT
BEGIN:VEVENT
DTSTART;VALUE=DATE-TIME:20150806T133000
DTEND;VALUE=DATE-TIME:20150806T150000
DTSTAMP:20150531T181651
CREATED:20150209T194504
LAST-MODIFIED:20150209T194504
UID:28665-1438867800-1438873200@http://davidsonnews.net/guide
SUMMARY:Stroke Support Group Meeting
DESCRIPTION:A Stroke Support Group hosted by Lake Norman Regional Medical Center will meet Thursday\, March 5. The group meets on the first Thursday of every month from 1:30-3 p.m. at the War Memorial building located at 220 N. Maple Street in Mooresville.    The Stroke Support Group is a free program open to everyone and provides education and support to stroke victims and their families. Registration is not required. For more information\, call Mitzie McCurdy\, director of community outreach and Senior Circle\, at 704-660-4859\, or email Mitzie.McCurdy@LNRMC.com.
URL:http://davidsonnews.net/guide/event/stroke-support-group-meeting/2015-08-06/
LOCATION:220 North Maple Street, Mooresville, NC, United States
CATEGORIES:Support groups
ORGANIZER;CN=Mitzie McCurdy:MAILTO:Mitziemccurdy@hma.com
END:VEVENT
BEGIN:VEVENT
DTSTART;VALUE=DATE-TIME:20150806T180000
DTEND;VALUE=DATE-TIME:20150806T190000
DTSTAMP:20150531T181651
CREATED:20140902T214555
LAST-MODIFIED:20150105T110259
UID:27860-1438884000-1438887600@http://davidsonnews.net/guide
SUMMARY:Toastmasters at the Lake
DESCRIPTION:Toastmasters is a nationally recognized group whose members are working to improve their speaking and leadership skills with others in a supportive environment. Each meeting gives everyone an opportunity to practice conducting meetings\, giving impromptu speeches\, presenting prepared speeches\, and offering constructive evaluation. The group meets every Thursday\, 6-7pm and guests are welcome.
URL:http://davidsonnews.net/guide/event/toastmasters-at-the-lake/2015-08-06/
LOCATION:517 Alcove Rd,Suite 202 , Mooresville, NC, United States
GEO:-80.859772;35.552675
CATEGORIES:Business,Meetings,Networking
ORGANIZER;CN=Jessica Keyes:MAILTO:VAExtraordinaire@aol.com
END:VEVENT
BEGIN:VEVENT
DTSTART;VALUE=DATE-TIME:20150806T190000
DTEND;VALUE=DATE-TIME:20150806T210000
DTSTAMP:20150531T181651
CREATED:20150131T183332
LAST-MODIFIED:20150507T092654
UID:28458-1438887600-1438894800@http://davidsonnews.net/guide
SUMMARY:Ladies Bible Study: 'Revealing the Mysteries of Heaven'
DESCRIPTION:The Ladies Bible Study of Prosperity Presbyterian Church will host a study on "Revealing the Mysteries of Heaven" by David Jeremiah. The group meets the first Thursday of each month at 7pm. The group will meet at Brenda's house\, 14624 Eastfield Road in Huntersville. For more information\, call Brenda at 704-875-2351 or email brendaea42@gmail.com. Or\, email Dot at email@prosperitychurch.org
URL:http://davidsonnews.net/guide/event/ladies-bible-study-revealing-the-mysteries-of-heaven/2015-08-06/
LOCATION:14624 Eastfield Road, Huntersville, NC, 28078, United States
GEO:-80.765903;35.398843
CATEGORIES:Faith & Spirituality,Meetings
END:VEVENT
BEGIN:VEVENT
DTSTART;VALUE=DATE-TIME:20150806T194500
DTEND;VALUE=DATE-TIME:20150806T233000
DTSTAMP:20150531T181651
CREATED:20150203T130441
LAST-MODIFIED:20150506T135148
UID:28532-1438890300-1438903800@http://davidsonnews.net/guide
SUMMARY:Open Mic 2.0
DESCRIPTION:Every 1st and 3rd Thursday\, Bella Love is proud to feature an eclectic mix of exceptionally talented artists throughout the Greater Charlotte area. From bands and singer/songwriters to comedians\, poets and even visual artists\, Bella Love's Open Mic Night makes it easy to get connected to the heart of the creative community\, building powerful relationships and inspiring the soul!    [caption id="attachment_16268" align="alignleft" width="300"] A captive crowd can be found every 1st and 3rd Thursday of each month. (Serge Skiba photo)[/caption]    Join us at Kadi Fit in Oak Street Mill from 7:45 pm to 11:30 pm for an evening of incredible local entertainment\, weekly drink specials\, and the positive vibes you've come to expect!    All ages and genres welcome.  $5 cover ($3 for performers)  $3 CRAFT BEER SPECIALS!  $5 Wine  Free Raffle with give-a-ways from our friends at Lake Town Tavern    **To sign up for a spot\, leave a comment on the Facebook event page with the hour slot that you would prefer to play. We do our best to accommodate each request.
URL:http://davidsonnews.net/guide/event/open-mic-2-0/2015-08-06/
LOCATION:19725 Oak Street, Cornelius, NC, 28031, United States
GEO:-80.860512;35.480714
CATEGORIES:Music
ORGANIZER;CN=BellaLove, Inc.:MAILTO:cwarnemunde@bellalove.org
END:VEVENT
BEGIN:VEVENT
DTSTART;VALUE=DATE-TIME:20150806T203000
DTEND;VALUE=DATE-TIME:20150806T224500
DTSTAMP:20150531T181651
CREATED:20150308T122239
LAST-MODIFIED:20150308T150448
UID:29812-1438893000-1438901100@http://davidsonnews.net/guide
SUMMARY:Live Music at The Corkscrew
DESCRIPTION:The Corkscrew is proud to feature live music on Thursday\, Friday and Saturday starting at 8:30 p.m. Also come by Sunday afternoon\, when you can enjoy jazz starting at 3 p.m.
URL:http://davidsonnews.net/guide/event/live-music-at-the-corkscrew-5-2015-03-19/2015-08-06/
LOCATION:16916 Birkdale Commons Pkwy, Huntersville, NC, 28078, United States
CATEGORIES:Food & Drink,Music
END:VEVENT
BEGIN:VEVENT
DTSTART;VALUE=DATE-TIME:
DTEND;VALUE=DATE-TIME:
DTSTAMP:20150531T181651
CREATED:0
LAST-MODIFIED:0
UID:0--@http://davidsonnews.net/guide
SUMMARY:
DESCRIPTION:
URL:
END:VEVENT
END:VCALENDAR