BEGIN:VCALENDAR
VERSION:2.0
PRODID:-//DavidsonNews.net Guide - ECPv3.7//NONSGML v1.0//EN
CALSCALE:GREGORIAN
METHOD:PUBLISH
X-WR-CALNAME:DavidsonNews.net Guide
X-ORIGINAL-URL:http://davidsonnews.net/guide
X-WR-CALDESC:Events for DavidsonNews.net Guide
BEGIN:VEVENT
DTSTART;VALUE=DATE-TIME:20150218T180000
DTEND;VALUE=DATE-TIME:20150218T193000
DTSTAMP:20150531T182927
CREATED:20150104T204655
LAST-MODIFIED:20150104T204655
UID:27786-1424282400-1424287800@http://davidsonnews.net/guide
SUMMARY:Davidson Toastmasters 
DESCRIPTION:Davidson Toastmasters meets every Wednesday night at the Lake Norman YMCA\, open to business\, PTA or church leaders\, entrepreneurs\, or anyone who wants to improve their communications skills. Registration and Information: Anette Powell\, 704-655-7479 or anettepowell@aol.com
URL:http://davidsonnews.net/guide/event/davidson-toastmasters/2015-02-18/
LOCATION:21300 Davidson St., Cornelius, NC, 28031, United States
CATEGORIES:Business,Classes,Networking
END:VEVENT
BEGIN:VEVENT
DTSTART;VALUE=DATE-TIME:20150218T190000
DTEND;VALUE=DATE-TIME:20150218T210000
DTSTAMP:20150531T182927
CREATED:20150210T164338
LAST-MODIFIED:20150210T164338
UID:28697-1424286000-1424293200@http://davidsonnews.net/guide
SUMMARY:Davidson Design Review Board Meeting
DESCRIPTION:The Davidson Design Review Board will meet Wednesday\, Feb. 18\, at 7 p.m. in the Davidson Town Hall Board Room. The public is welcome to attend.
URL:http://davidsonnews.net/guide/event/davidson-design-review-board-meeting-3/
LOCATION:216 S. Main St., Davidson, NC, 28036, United States
CATEGORIES:Meetings
END:VEVENT
BEGIN:VEVENT
DTSTART;VALUE=DATE-TIME:20150218T190000
DTEND;VALUE=DATE-TIME:20150218T210000
DTSTAMP:20150531T182927
CREATED:20150215T210052
LAST-MODIFIED:20150215T210052
UID:28887-1424286000-1424293200@http://davidsonnews.net/guide
SUMMARY:Wildcats vs. George Washington
DESCRIPTION:The Davidson College men’s basketball team travels to George Washington University on Wednesday\, Feb. 18\, for an Atlantic 10 conference game at 7 p.m.
URL:http://davidsonnews.net/guide/event/wildcats-vs-george-washington/
LOCATION:600 22nd St. NW, Washington, DC, 20052, United States
GEO:-77.049347;38.897857
CATEGORIES:Davidson basketball,Davidson College,Sports
END:VEVENT
BEGIN:VEVENT
DTSTART;VALUE=DATE-TIME:20150218T200000
DTEND;VALUE=DATE-TIME:20150218T220000
DTSTAMP:20150531T182927
CREATED:20150213T081807
LAST-MODIFIED:20150213T081807
UID:28809-1424289600-1424296800@http://davidsonnews.net/guide
SUMMARY:Summit open mic night
DESCRIPTION:Open mic night at Summit Coffee in downtown Davidson.
URL:http://davidsonnews.net/guide/event/summit-open-mic-night/2015-02-18/
LOCATION:128 S. Main St., Davidson, NC, 28036, United States
CATEGORIES:Music
END:VEVENT
BEGIN:VEVENT
DTSTART;VALUE=DATE-TIME:
DTEND;VALUE=DATE-TIME:
DTSTAMP:20150531T182927
CREATED:0
LAST-MODIFIED:0
UID:0--@http://davidsonnews.net/guide
SUMMARY:
DESCRIPTION:
URL:
END:VEVENT
END:VCALENDAR