BEGIN:VCALENDAR
VERSION:2.0
PRODID:-//DavidsonNews.net Guide - ECPv3.7//NONSGML v1.0//EN
CALSCALE:GREGORIAN
METHOD:PUBLISH
X-WR-CALNAME:DavidsonNews.net Guide
X-ORIGINAL-URL:http://davidsonnews.net/guide
X-WR-CALDESC:Events for DavidsonNews.net Guide
BEGIN:VEVENT
DTSTART;VALUE=DATE:20150214
DTEND;VALUE=DATE:20150216
DTSTAMP:20150531T182725
CREATED:20150212T100823
LAST-MODIFIED:20150212T100823
UID:28721-1423872000-1424044800@http://davidsonnews.net/guide
SUMMARY:Airport traffic detours
DESCRIPTION:On Saturday\, Feb. 14\, and Saturday\, Feb. 21\, from noon to 8pm\, Charlotte Douglas will detour all inbound traffic on Josh Birmingham Parkway as crews install overhead signs on CLT’s new entrance road. Drivers will be rerouted onto Harlee Avenue\, Wilkinson Boulevard\, Marshall Drive\, Old Dowd Road\, the Airport’s new roundabout and Rental Car Road to access the terminal. (Please see the attached map.) Installation of the signs will be contingent on weather conditions.  Road congestion may occur. Drivers are encouraged to allow extra time to access the terminal.    Read more: "Sign work brings CLT airport detours next 2 Sat."
URL:http://davidsonnews.net/guide/event/airport-traffic-detours/2015-02-14/
LOCATION:5501 Josh Birmingham Parkway, Charlotte, NC, 28208, United States
CATEGORIES:Public safety
END:VEVENT
BEGIN:VEVENT
DTSTART;VALUE=DATE-TIME:20150214T080000
DTEND;VALUE=DATE-TIME:20150214T100000
DTSTAMP:20150531T182725
CREATED:20150209T195630
LAST-MODIFIED:20150209T195630
UID:28670-1423900800-1423908000@http://davidsonnews.net/guide
SUMMARY:Frigid 5K at Whitewater Center
DESCRIPTION:Kick off Valentine’s Day by taking the plunge in the Frigid 5K at the U.S. National Whitewater Center in Charlotte on Saturday\, Feb. 14. The event begins at 8 a.m. Warm up with a 5-kilometer run along the length of Whitewater Center Parkway\, then cool down very quickly as you leap into the chilly waters of the center's man-made whitewater river. This unique race is sure to get your feet and your heart racing.    For more information\, visit http://usnwc.org/play/whitewater-race-series/frigid-5k-run-plunge/
URL:http://davidsonnews.net/guide/event/frigid-5k-at-whitewater-center/
LOCATION:5000 Whitewater Center Pkwy, Charlotte, NC, 28214, United States
CATEGORIES:Health & Fitness,Nature & Outdoors,Running
END:VEVENT
BEGIN:VEVENT
DTSTART;VALUE=DATE-TIME:20150214T090000
DTEND;VALUE=DATE-TIME:20150214T120000
DTSTAMP:20150531T182725
CREATED:20141031T115445
LAST-MODIFIED:20141031T115445
UID:26492-1423904400-1423915200@http://davidsonnews.net/guide
SUMMARY:Davidson Winter Farmer's Market 
DESCRIPTION:The Davidson Farmer's Market is on its winter market schedule through March\, opening from 9am to noon on the following Saturdays:     Nov. 1\, 8\, 15\, 22; Dec. 13\, 20; Jan. 10\, 24; Feb. 14\, 28; March 14\, 28.   
URL:http://davidsonnews.net/guide/event/davidson-winter-farmers-market-5/
LOCATION:216 S. Main St., Davidson, NC, 28036, United States
CATEGORIES:Food & Drink
END:VEVENT
BEGIN:VEVENT
DTSTART;VALUE=DATE-TIME:20150214T090000
DTEND;VALUE=DATE-TIME:20150214T110000
DTSTAMP:20150531T182725
CREATED:20150206T175539
LAST-MODIFIED:20150206T175539
UID:28620-1423904400-1423911600@http://davidsonnews.net/guide
SUMMARY:Hearts-A-Bustin' 5K Trail Race
DESCRIPTION:Make your heart race on Valentine's Day with a festive trail race at Daniel Stowe Botanical Garden in Belmont beginning at 9 a.m. The loop route incorporates the Seven Oaks Preserve Thread Trail and two garden trails. Run with a buddy or challenge yourself! Couples can be spouses\, significant others\, best friends\, co-workers\, siblings\, etc. Registration includes a long-sleeved shirt\, free entry plus two discounted passes for guests to the garden following the race and a free ticket to Charlotte's Southern Spring Home and Garden Show. Everyone is welcome to enjoy the hot chocolate bar and Valentine's Day card station! Proceeds benefit the garden and the Thread Trail.    Pre-registration: Individual $30/Couple $50  Race Day:  Individual $35/Couple $55    Registration is open through Feb. 11. Register online by visiting www.dsbg.org/hearts-bustin-5k.
URL:http://davidsonnews.net/guide/event/hearts-a-bustin-5k-trail-race/
LOCATION:6500 South New Hope Road, Belmont, NC, United States
GEO:-81.056866;35.1676604
CATEGORIES:Fundraisers,Nature & Outdoors,Running,Sports
END:VEVENT
BEGIN:VEVENT
DTSTART;VALUE=DATE-TIME:20150214T100000
DTEND;VALUE=DATE-TIME:20150214T110000
DTSTAMP:20150531T182725
CREATED:20150126T204331
LAST-MODIFIED:20150205T160202
UID:28224-1423908000-1423911600@http://davidsonnews.net/guide
SUMMARY:WOW Outing at Davidson College Herpetology Lab
DESCRIPTION:[caption id="attachment_28225" align="alignright" width="300"] Visit the Davidson College Herpetology Lab for the WOW Outing on Feb. 14.[/caption]    UPDATE: As of Feb. 5\, there are no remaining spots for this outing. To be placed on a wait list\, email dlc.wow@gmail.com.    “Scaly\, Slimy\, but Never Scary – Come Pet Something That’s Not Hairy” is the theme of the Feb. 14 WOW (World of Wonder) Outing\, which will make its annual visit to the Davidson College Herpetology Lab. Attendees will enjoy a brief introduction to the world of herpetology. A number of the animals will be there to see and to touch. Learn about reptiles and amphibians\, meet some species that are native to North Carolina and find out about conservation threats regarding these special animals.    This outing is open to children with their families. There is a strict minimum age of 5 years old for the lab.    Pre-registration is required. For a registration form\, email dlc.wow@gmail.com. Be sure that you receive an email confirming your registration. Location and other details will be sent to those who pre-register. If you have registered\, but then find you're unable to attend\, please email dlc.wow@gmail.com as soon as possible so that another family can attend.
URL:http://davidsonnews.net/guide/event/wow-outing-at-davidson-college-herpetology-lab/
LOCATION:Davidson, NC, 28036, United States
CATEGORIES:Kids,Nature & Outdoors
END:VEVENT
BEGIN:VEVENT
DTSTART;VALUE=DATE-TIME:20150214T110000
DTEND;VALUE=DATE-TIME:20150214T130000
DTSTAMP:20150531T182725
CREATED:20150126T200200
LAST-MODIFIED:20150211T214151
UID:28271-1423911600-1423918800@http://davidsonnews.net/guide
SUMMARY:Tea and 'Sleeping Beauty'
DESCRIPTION:Turning Pointe is celebrating "Putting The Heart Back Into Arts" by launching its newest Youth Ballet production\,“Sleeping Beauty\,” at its first-ever Valentine’s Day Tea on Saturday\, Feb. 14\, at Turning Pointe Music &amp; Dance Studio. Turning Pointe will have a tea time along with delicious desserts\, a special reading of "Sleeping Beauty" for the kids\, costumed characters and pictures with Princess Aurora and Arial Arts performances by Turning Pointe students!    This event is open to the public. Tickets are $10 per person (all proceeds go toward the production of "Sleeping Beauty").    &nbsp;
URL:http://davidsonnews.net/guide/event/tea-and-sleeping-beauty-ballet-production/
LOCATION:19615 Liverpool Parkway, Cornelius, NC, United States
CATEGORIES:Arts,Dance,Kids
END:VEVENT
BEGIN:VEVENT
DTSTART;VALUE=DATE-TIME:20150214T140000
DTEND;VALUE=DATE-TIME:20150214T170000
DTSTAMP:20150531T182725
CREATED:20150129T100554
LAST-MODIFIED:20150129T123447
UID:28360-1423922400-1423933200@http://davidsonnews.net/guide
SUMMARY:Community Yoga workshop/fundraisers
DESCRIPTION:Community Yoga on North Main Street in Cornelius will offer a series of workshops on Saturdays to help raise funds for two local charities.    Workshops will be Saturdays 1/24\, 1/31\, 2/7\, and 2/14: Kids Yoga from 2 to 3pm and Absolute Beginners Series from 3:30-5pm.    In addition\, Feb. 1 also will be a donation day\, in honor of the studio's 10th anniversary. Funds raised that day will go to plant trees in Davidson and Cornelius.    "I am proud to say Community Yoga has been open and serving the Cornelius\, Huntersville and Davidson towns since 2004. We are a very small\, modest studio committed to creating a space to welcome all to practice. Our mission from the beginning has been service\, Seva\," said owner Amy Schneider.    Each year the studio picks one or two local charities to support through the year. This year's picks are Davison LifeLine and the Coalition of Unchained Dogs.    Register at cyyoga@gmail.com or by calling 704-491-4749.
URL:http://davidsonnews.net/guide/event/community-yoga-fundraisers/2015-02-14/
LOCATION:20832 N Main Street, Cornelius, NC, 28031, United States
CATEGORIES:Health & Fitness
END:VEVENT
BEGIN:VEVENT
DTSTART;VALUE=DATE-TIME:20150214T140000
DTEND;VALUE=DATE-TIME:20150214T160000
DTSTAMP:20150531T182725
CREATED:20150210T180519
LAST-MODIFIED:20150210T180519
UID:28708-1423922400-1423929600@http://davidsonnews.net/guide
SUMMARY:Wildcats vs. La Salle
DESCRIPTION:The Davidson College men’s basketball team travels to La Salle University on Saturday\, Feb. 14\, for an Atlantic 10 conference game at 2 p.m.
URL:http://davidsonnews.net/guide/event/wildcats-vs-la-salle/
LOCATION:1900 West Olney Avenue, Philadelphia, PA, United States
GEO:-75.1525264;40.0377034
CATEGORIES:Davidson basketball,Davidson College,Kids,Sports
END:VEVENT
BEGIN:VEVENT
DTSTART;VALUE=DATE-TIME:20150214T180000
DTEND;VALUE=DATE-TIME:20150214T220000
DTSTAMP:20150531T182725
CREATED:20150201T171346
LAST-MODIFIED:20150201T171346
UID:28493-1423936800-1423951200@http://davidsonnews.net/guide
SUMMARY:Parents' Night Out
DESCRIPTION:Lake Norman Charter School's Interact Club is sponsoring a Parents' Night Out on Saturday\, Feb. 14\, from 6-10 p.m. at the high school. Potty-trained children will enjoy an evening of Valentine's fun! The cost is $20 per child\, $10 per each additional sibling. Register at: http://goo.gl/HBniSp.
URL:http://davidsonnews.net/guide/event/parents-night-out-2/
LOCATION:12701 Old Statesville Road, Huntersville, NC, United States
CATEGORIES:Kids
END:VEVENT
BEGIN:VEVENT
DTSTART;VALUE=DATE-TIME:20150214T200000
DTEND;VALUE=DATE-TIME:20150214T220000
DTSTAMP:20150531T182725
CREATED:20150105T142915
LAST-MODIFIED:20150105T144734
UID:27896-1423944000-1423951200@http://davidsonnews.net/guide
SUMMARY:Theater: 'The Last Romance'
DESCRIPTION:[caption id="attachment_27894" align="alignleft" width="150"] Click for tickets.[/caption]Joe DiPietro's "The Last Romance" runs Feb. 13-15 at The Warehouse Performing Arts Center. It’s the third in the center's “Plays & Pastries” series. (Make reservations at least 48 hours ahead and you'll get a fantastic pastry from La Patisserie Bakery in Mooresville to enjoy during or after the show.)    Directed by Alan England and starring Jim Esposito\, Joan Tate\, Marilyn England and Curtis Kriner\, “The Last Romance” will be a script-in-hand reading.  Perfect for the Valentine’s season\, The Last Romance is a delightful romantic comedy about love in the golden years.   Ralph\, an elderly widower\, feels young again – all thanks to an unexpected second chance at love. Relying on a renewed boyish charm\, Ralph attempts to woo the elegant but distant Carol. Up against Carol’s reluctance and his domineering sister’s meddling\, Ralph embarks on the challenge of a lifetime\, and regains a happiness that seemed lost.     Performances Friday and Saturday at 8pm\, Sunday at 2pm. Tickets $10\, available at the box office\, 704-619-0429\, or online at http://warehousepac.com/tickets.  
URL:http://davidsonnews.net/guide/event/theater-the-last-romance/2015-02-14/
LOCATION:9216-A Westmoreland Road, Cornelius, NC, United States
CATEGORIES:Theatre
END:VEVENT
BEGIN:VEVENT
DTSTART;VALUE=DATE-TIME:20150214T200000
DTEND;VALUE=DATE-TIME:20150214T230000
DTSTAMP:20150531T182725
CREATED:20150213T080454
LAST-MODIFIED:20150213T081544
UID:28750-1423944000-1423954800@http://davidsonnews.net/guide
SUMMARY:Live music at Summit Coffee
DESCRIPTION:Summit Coffee in downtown Davidson has live local music upstairs most Thursday to Saturday nights\, from 8 to 11pm. Cash bar. Check the shop's website for an updated schedule.    Tonight: A solo gig with Bryan Olson of popular local band Matter of Fact    &nbsp;
URL:http://davidsonnews.net/guide/event/live-music-at-summit-coffee-21-2015-02-14/
LOCATION:128 S. Main St., Davidson, NC, 28036, United States
CATEGORIES:Music
END:VEVENT
BEGIN:VEVENT
DTSTART;VALUE=DATE-TIME:20150214T203000
DTEND;VALUE=DATE-TIME:20150214T223000
DTSTAMP:20150531T182725
CREATED:20150131T185145
LAST-MODIFIED:20150212T102847
UID:28474-1423945800-1423953000@http://davidsonnews.net/guide
SUMMARY:Live Music: Carrburritos
DESCRIPTION:Enjoy live music at Carrburritos in Davidson on the following dates. All shows begin at 8:30 p.m. There is no cover charge.     Saturday\, Feb. 14 - Noma Trio Featuring Jill Dineen Noma Trio\, featuring Jill Dineen\, is a Hammond Organ trio based in Huntersville. Blending funk\, soul and jazz\, they create a vintage sound that is fresh but familiar.   Saturday\, Feb. 21 - Carrburretors\, '60s jazz band featuring Sandy Bell and Bill Bradford   Saturday\, Feb. 28 - The Mike Strauss Band - The Mike Strauss Band exists both under and outside the "Americana" umbrella by putting its own spin on country\, rock n’ roll\, and blues.  
URL:http://davidsonnews.net/guide/event/live-music-carrburritos-5/2015-02-14/
LOCATION:445 S. Main St., Davidson, NC, 28036, United States
CATEGORIES:Arts,Music
END:VEVENT
BEGIN:VEVENT
DTSTART;VALUE=DATE-TIME:
DTEND;VALUE=DATE-TIME:
DTSTAMP:20150531T182725
CREATED:0
LAST-MODIFIED:0
UID:0--@http://davidsonnews.net/guide
SUMMARY:
DESCRIPTION:
URL:
END:VEVENT
END:VCALENDAR