BEGIN:VCALENDAR
VERSION:2.0
PRODID:-//DavidsonNews.net Guide - ECPv3.7//NONSGML v1.0//EN
CALSCALE:GREGORIAN
METHOD:PUBLISH
X-WR-CALNAME:DavidsonNews.net Guide
X-ORIGINAL-URL:http://davidsonnews.net/guide
X-WR-CALDESC:Events for DavidsonNews.net Guide
BEGIN:VEVENT
DTSTART;VALUE=DATE-TIME:20150213T180000
DTEND;VALUE=DATE-TIME:20150213T220000
DTSTAMP:20150531T182845
CREATED:20150127T121844
LAST-MODIFIED:20150127T125424
UID:28283-1423850400-1423864800@http://davidsonnews.net/guide
SUMMARY:2nd Friday Art Crawl
DESCRIPTION:Discover local talent like you've never seen before at Cornelius' hottest monthly art crawl series\, 2nd Friday!    Every 2nd Friday Bella Love invites you to experience Old Town Cornelius in style. This unique monthly art crawl features some of the area’s most talented and innovative artisans\, live performances\, food trucks\, local craft beer\, business specials and much more…    Join us each 2nd Friday of every month from 6pm - 10pm at Oak Street Mill for an incredible evening of art\, creative expression and community like no other!    
URL:http://davidsonnews.net/guide/event/2nd-friday-art-crawl/2015-02-13/
LOCATION:19725 Oak Street, Cornelius, NC, United States
GEO:-80.860512;35.480714
CATEGORIES:Arts
ORGANIZER;CN=BellaLove, Inc.:MAILTO:cwarnemunde@bellalove.org
END:VEVENT
BEGIN:VEVENT
DTSTART;VALUE=DATE-TIME:20150213T180000
DTEND;VALUE=DATE-TIME:20150213T220000
DTSTAMP:20150531T182845
CREATED:20150202T112210
LAST-MODIFIED:20150202T112210
UID:28388-1423850400-1423864800@http://davidsonnews.net/guide
SUMMARY:The Zodiac Series by Miss Lotus at Brick Row Gallery
DESCRIPTION:Brick Row Gallery presents an OPENING RECEPTION for "The Zodiac Series by Miss Lotus."    &nbsp;    The opening reception will be held during the next 2nd Friday\, February 13 6-10 PM. The show will remain up for viewing until March 1\, 2015.    Zodiac is a new series by Charlotte street artist\, Miss Lotus (follow on IG @MISSLOTUS_). Featuring her iconic female character as the twelve astrological signs\, each piece is painted on wood and cut out by hand.    [caption id="attachment_28498" align="aligncenter" width="590"] Miss Lotus' street art can be found all around Uptown Charlotte and her Zodiac series on wood will be shown at Brick Row Gallery Feb 13-March 1.[/caption]    MISS LOTUS:  Before moving to Charlotte in 2006\, Miss Lotus studied art at Pratt Institute in Brooklyn. The presence of street art in her home town of Los Angeles as well as New York City inspired her to add her own mark on the Queen City. Her wheat pasted female figures represent her presence in this town as a female street artist. Her icon\, the lotus flower has a rich meaning. Its seed must sprout from mud at the very bottom of a lake bed. The seedling must then work its way up through the deep darkness\, searching for light. When it finally reaches the surface of the water to find the sun\, it then blooms into a beautiful flower. Her message is one of determination\, persistence\, and drive. If you can overcome all obstacles and stay positive\, then you have the opportunity to thrive.    &nbsp;    &nbsp;    &nbsp;
URL:http://davidsonnews.net/guide/event/the-zodiac-series-by-miss-lotus-at-brick-row-gallery/
LOCATION:21325 Catawba Ave., Cornelius, NC, 28031, United States
ORGANIZER;CN=BellaLove, Inc.:MAILTO:cwarnemunde@bellalove.org
END:VEVENT
BEGIN:VEVENT
DTSTART;VALUE=DATE-TIME:20150213T180000
DTEND;VALUE=DATE-TIME:20150213T200000
DTSTAMP:20150531T182845
CREATED:20150203T203212
LAST-MODIFIED:20150203T203212
UID:28561-1423850400-1423857600@http://davidsonnews.net/guide
SUMMARY:Open House: Woodland Discovery
DESCRIPTION:Woodland Discovery\, an educational nonprofit that provides play-based\, outdoor activities for children\, is holding two informal "come check us out" Open Houses this month. On Feb. 7 from 10 a.m.-2 p.m.\, bring a picnic and the kids to hike and play and fish if you bring your own gear. On Feb. 13 from 6-8 p.m.\, bring your dinner to cook over a campfire or just come hike or fish or play. Come anytime\, for a few minutes or the entire time. Learn more about preschool\, summer camps and other programs.    Interested in a "forest school" approach to preschool for 2014-2015? Applications will be available Feb. 1. Children must be 3 years old by Aug. 31\, 2014\, and fully potty trained. Save the date of March 6 at 7 p.m. or March 7 at 4 p.m. for information sessions and viewing the film "Schools Out - Lessons from a Forest Kindergarten."    For more information or a one-on-one tour\, contact woodlandsdiscovery@gmail.com.    Woodland Discovery is a non-profit organization dedicated to getting kids and families outdoors more. Time spent in nature is essential for healthy growth and development. For a list of ideas of ways that you can contribute\, go to www.woodlanddiscovery.org/wishlist.
URL:http://davidsonnews.net/guide/event/open-house-woodland-discovery-2/
LOCATION:8755 Poplar Tent Road, Concord, NC, United States
CATEGORIES:Kids,Nature & Outdoors,Schools
ORGANIZER;CN=Carolyn Walker:MAILTO:woodlandsdiscovery@gmail.com
END:VEVENT
BEGIN:VEVENT
DTSTART;VALUE=DATE-TIME:20150213T200000
DTEND;VALUE=DATE-TIME:20150213T220000
DTSTAMP:20150531T182845
CREATED:20150105T142915
LAST-MODIFIED:20150105T144730
UID:27893-1423857600-1423864800@http://davidsonnews.net/guide
SUMMARY:Theater: 'The Last Romance'
DESCRIPTION:[caption id="attachment_27894" align="alignleft" width="150"] Click for tickets.[/caption]Joe DiPietro's "The Last Romance" runs Feb. 13-15 at The Warehouse Performing Arts Center. It’s the third in the center's “Plays & Pastries” series. (Make reservations at least 48 hours ahead and you'll get a fantastic pastry from La Patisserie Bakery in Mooresville to enjoy during or after the show.)    Directed by Alan England and starring Jim Esposito\, Joan Tate\, Marilyn England and Curtis Kriner\, “The Last Romance” will be a script-in-hand reading.  Perfect for the Valentine’s season\, The Last Romance is a delightful romantic comedy about love in the golden years.   Ralph\, an elderly widower\, feels young again – all thanks to an unexpected second chance at love. Relying on a renewed boyish charm\, Ralph attempts to woo the elegant but distant Carol. Up against Carol’s reluctance and his domineering sister’s meddling\, Ralph embarks on the challenge of a lifetime\, and regains a happiness that seemed lost.     Performances Friday and Saturday at 8pm\, Sunday at 2pm. Tickets $10\, available at the box office\, 704-619-0429\, or online at http://warehousepac.com/tickets.  
URL:http://davidsonnews.net/guide/event/theater-the-last-romance/2015-02-13/
LOCATION:9216-A Westmoreland Road, Cornelius, NC, United States
CATEGORIES:Theatre
END:VEVENT
BEGIN:VEVENT
DTSTART;VALUE=DATE-TIME:20150213T200000
DTEND;VALUE=DATE-TIME:20150213T230000
DTSTAMP:20150531T182845
CREATED:20150213T080454
LAST-MODIFIED:20150213T081318
UID:28749-1423857600-1423868400@http://davidsonnews.net/guide
SUMMARY:Live music at Summit Coffee
DESCRIPTION:[caption id="attachment_4308" align="alignleft" width="170"] Mike Strauss plays Friday night at Summit Coffee.[/caption]    Summit Coffee in downtown Davidson has live local music upstairs most Thursday to Saturday nights\, from 8 to 11pm. Cash bar. Check the shop's website for an updated schedule.    Tonight: Blues and folk with Mike Strauss trio
URL:http://davidsonnews.net/guide/event/live-music-at-summit-coffee-21/
LOCATION:128 S. Main St., Davidson, NC, 28036, United States
CATEGORIES:Music
END:VEVENT
BEGIN:VEVENT
DTSTART;VALUE=DATE-TIME:
DTEND;VALUE=DATE-TIME:
DTSTAMP:20150531T182845
CREATED:0
LAST-MODIFIED:0
UID:0--@http://davidsonnews.net/guide
SUMMARY:
DESCRIPTION:
URL:
END:VEVENT
END:VCALENDAR