BEGIN:VCALENDAR
VERSION:2.0
PRODID:-//DavidsonNews.net Guide - ECPv3.7//NONSGML v1.0//EN
CALSCALE:GREGORIAN
METHOD:PUBLISH
X-WR-CALNAME:DavidsonNews.net Guide
X-ORIGINAL-URL:http://davidsonnews.net/guide
X-WR-CALDESC:Events for DavidsonNews.net Guide
BEGIN:VEVENT
DTSTART;VALUE=DATE-TIME:20150211T130000
DTEND;VALUE=DATE-TIME:20150211T143000
DTSTAMP:20150531T182850
CREATED:20150204T185019
LAST-MODIFIED:20150204T185019
UID:28578-1423659600-1423665000@http://davidsonnews.net/guide
SUMMARY:Senior Scholars
DESCRIPTION:&nbsp;    Dr. Gill Holland\, Davidson College professor of English Emeritus\, will speak at Senior Scholars on the topic "Twenty Five Years Later: A Poet Looks Back at Tiananmen Square" on Feb. 11. Holland will share remembrances of his 1989 sabbatical in China and read from his translations of classical Chinese poetry. Holland studied Mandarin and classical Chinese at Stanford University for three summers\, and in Taiwan and Beijing\, where he taught on three sabbatical leaves. He is retired from Davidson College but still publishes.    The FREE program is 1–2:30 p.m. in the Davidson Town Hall Board Room.
URL:http://davidsonnews.net/guide/event/senior-scholars/
LOCATION:216 S. Main St., Davidson, NC, 28036, United States
CATEGORIES:History,Lecture,Parks & Rec,Seniors
ATTACH;FMTTYPE=image/jpeg:http://davidsonnews.net/guide/files/2015/02/gill-holland.jpg
ORGANIZER;CN=Davidson Parks and Recreation:MAILTO:cminor
END:VEVENT
BEGIN:VEVENT
DTSTART;VALUE=DATE-TIME:20150211T180000
DTEND;VALUE=DATE-TIME:20150211T193000
DTSTAMP:20150531T182850
CREATED:20150104T204655
LAST-MODIFIED:20150104T204655
UID:27785-1423677600-1423683000@http://davidsonnews.net/guide
SUMMARY:Davidson Toastmasters 
DESCRIPTION:Davidson Toastmasters meets every Wednesday night at the Lake Norman YMCA\, open to business\, PTA or church leaders\, entrepreneurs\, or anyone who wants to improve their communications skills. Registration and Information: Anette Powell\, 704-655-7479 or anettepowell@aol.com
URL:http://davidsonnews.net/guide/event/davidson-toastmasters/2015-02-11/
LOCATION:21300 Davidson St., Cornelius, NC, 28031, United States
CATEGORIES:Business,Classes,Networking
END:VEVENT
BEGIN:VEVENT
DTSTART;VALUE=DATE-TIME:20150211T190000
DTEND;VALUE=DATE-TIME:20150211T210000
DTSTAMP:20150531T182850
CREATED:20150210T175828
LAST-MODIFIED:20150210T175828
UID:28707-1423681200-1423688400@http://davidsonnews.net/guide
SUMMARY:George Mason vs. Wildcats
DESCRIPTION:The Davidson College men's basketball team hosts George Mason University on Wednesday\, Feb. 11\, at 7 p.m. at Belk Arena on campus in an Atlantic 10 conference game.
URL:http://davidsonnews.net/guide/event/george-mason-vs-wildcats/
LOCATION:Davidson, NC, 28036, United States
CATEGORIES:Davidson basketball,Davidson College,Kids,Sports
END:VEVENT
BEGIN:VEVENT
DTSTART;VALUE=DATE-TIME:
DTEND;VALUE=DATE-TIME:
DTSTAMP:20150531T182850
CREATED:0
LAST-MODIFIED:0
UID:0--@http://davidsonnews.net/guide
SUMMARY:
DESCRIPTION:
URL:
END:VEVENT
END:VCALENDAR