BEGIN:VCALENDAR
VERSION:2.0
PRODID:-//DavidsonNews.net Guide - ECPv3.7//NONSGML v1.0//EN
CALSCALE:GREGORIAN
METHOD:PUBLISH
X-WR-CALNAME:DavidsonNews.net Guide
X-ORIGINAL-URL:http://davidsonnews.net/guide
X-WR-CALDESC:Events for DavidsonNews.net Guide
BEGIN:VEVENT
DTSTART;VALUE=DATE-TIME:20150208T094500
DTEND;VALUE=DATE-TIME:20150208T104500
DTSTAMP:20150531T182925
CREATED:20150202T171801
LAST-MODIFIED:20150202T172213
UID:28508-1423388700-1423392300@http://davidsonnews.net/guide
SUMMARY:Theology, Poetry of Christian Wiman
DESCRIPTION:Tony Abbott\, professor emeritus of English at Davidson College\, will teach a three-week class on the theology and poetry of Christian Wiman on Feb. 8\, 15 and 22.  Wiman’s most recent books are My Bright Abyss: Meditation of a Modern Believer\, and Every Riven Thing\, a book of poems listed by the New Yorker as one of the 10 best books of the year. He will have a new book of poems out in September. The instructor will hand out short selections from these books.    Wiman\, who is senior lecturer in religion and literature at Yale Divinity School\, is the Maloney lecturer at Davidson on Feb. 15 and 16. You may want to attend his lectures as well as these classes.
URL:http://davidsonnews.net/guide/event/theology-poetry-of-christian-wiman/2015-02-08/
LOCATION:208 Concord Road, Davidson, NC, 28036
ORGANIZER;CN=Joe Melton:MAILTO:davidsoncollegepresbyterianchurch@dcpc.org
END:VEVENT
BEGIN:VEVENT
DTSTART;VALUE=DATE-TIME:20150208T190000
DTEND;VALUE=DATE-TIME:20150208T210000
DTSTAMP:20150531T182925
CREATED:20150124T224421
LAST-MODIFIED:20150124T224421
UID:28248-1423422000-1423429200@http://davidsonnews.net/guide
SUMMARY:Film Screening: "Polyester" at Studio-C Cinema
DESCRIPTION:"Polyester" is a satire on the popular 1960s and '70s TV sit-coms that featured perfect upper-middle class families\, like "Leave It to Beaver\," "Father Knows Best\," and  "My Three Sons." Those and many more showed most family problems weren't very serious\, always had a humorous bent\, and were easily solved. Polyester turns those shows inside out and upside down\, to see another truth. Though the Fishpaw family lives in an ideal suburbia\, the father runs an adult movie theater\, and the two children are troubled victims of pop culture. The sensitive mother\, Francine\, (played by underground star Divine\, who created the role of Tracy in "Hairspray") is driven to distraction by her philandering husband\, delinquent children\, critical mother\, and addled best friend\, Cuddles. Francine falls for a gold-digging gigolo (Todd Tomorrow\, played by '50s heart throb Tab Hunter). Despite all sorts of mayhem\, (including many broken screen taboos)\, the children finally see the light\, and help Francine recover to achieve her happy\, loving family.    The Studio –C Cinema showing will feature “Odorama\,” where patrons will given a card with ten scratch-and-sniff patches to be smelled at key points in the action.    Doors open 6:15 p.m. for complementary wine and cheese reception\, and art gallery browsing.  Screening begins at 7 p.m.  Informal discussion follows.  Cost: $9 Cornelius residents/$10 non-Cornelius residents.
URL:http://davidsonnews.net/guide/event/film-screening-polyester-at-studio-c-cinema/2015-02-08/
LOCATION:19725 Oak St, Cornelius, NC, United States
GEO:-80.860512;35.480714
CATEGORIES:Comedy,Film
ORGANIZER;CN=Robert Maier:MAILTO:studioccinema@gmail.com
END:VEVENT
BEGIN:VEVENT
DTSTART;VALUE=DATE-TIME:
DTEND;VALUE=DATE-TIME:
DTSTAMP:20150531T182925
CREATED:0
LAST-MODIFIED:0
UID:0--@http://davidsonnews.net/guide
SUMMARY:
DESCRIPTION:
URL:
END:VEVENT
END:VCALENDAR