BEGIN:VCALENDAR
VERSION:2.0
PRODID:-//DavidsonNews.net Guide - ECPv3.7//NONSGML v1.0//EN
CALSCALE:GREGORIAN
METHOD:PUBLISH
X-WR-CALNAME:DavidsonNews.net Guide
X-ORIGINAL-URL:http://davidsonnews.net/guide
X-WR-CALDESC:Events for DavidsonNews.net Guide
BEGIN:VEVENT
DTSTART;VALUE=DATE-TIME:20150206T173000
DTEND;VALUE=DATE-TIME:20150206T220000
DTSTAMP:20150531T182704
CREATED:20150205T113935
LAST-MODIFIED:20150205T113935
UID:28601-1423243800-1423260000@http://davidsonnews.net/guide
SUMMARY:Dinner at Davidson
DESCRIPTION:The annual Dinner at Davidson fundraiser will be in the Lilly Family Gallery of the Chambers Building at Davidson College on Friday\, Feb. 6\, 2015. A cocktail reception and silent auction will begin at 5:30pm and the “Many Faces of Davidson” gallery will open at 6:30pm. Dinner will be held at 7:30pm. Tickets are $85 and can be purchased online.    Organized by students\, the dinner is among 10 days of events highlighting the college’s efforts to make itself more affordable and help students graduate without loans. Proceeds go to the college’s Davidson Trust financial aid program\, will be on Friday\, Feb. 6 in the Chambers Building.      Preview: Jan. 26\, 2015\, "Dinner at Davidson hopes to show ‘many faces of Davidson’"
URL:http://davidsonnews.net/guide/event/dinner-at-davidson-2/
LOCATION:200 D Road, Davidson, NC, 28036, United States
CATEGORIES:Davidson College,Food & Drink,Fundraisers
END:VEVENT
BEGIN:VEVENT
DTSTART;VALUE=DATE-TIME:20150206T180000
DTEND;VALUE=DATE-TIME:20150206T180000
DTSTAMP:20150531T182704
CREATED:20150205T084153
LAST-MODIFIED:20150205T172114
UID:28593-1423245600-1423245600@http://davidsonnews.net/guide
SUMMARY:Hough basketball at W. Charlotte
DESCRIPTION:W.A. Hough High School's boys and girls basketball teams travel to West Charlotte for games Friday night.     The girls play at 6pm. Scoreboard here. Hough's girls are 9-4 overall\, and 5-4 in the MECKA conference.  They're in third place\, two positions ahead of West Meck\, which is 6-8 overall\, 4-5 in the conference.    The boys play at 7:30pm. Scoreboard here. Hough is 12-5 overall\, 7-4 and sitting in third place in the MECKA conference. West Charlotte is 12-2 overall and 8-2 in the conference\, one spot ahead of Hough.  
URL:http://davidsonnews.net/guide/event/hough-basketball-at-w-charlotte/
LOCATION:2219 Senior Drive, Charlotte, NC, 28216, United States
GEO:-80.8597686;35.2660082
CATEGORIES:High School Sports,Schools
END:VEVENT
BEGIN:VEVENT
DTSTART;VALUE=DATE-TIME:20150206T190000
DTEND;VALUE=DATE-TIME:20150206T210000
DTSTAMP:20150531T182704
CREATED:20150203T172712
LAST-MODIFIED:20150203T172712
UID:28554-1423249200-1423256400@http://davidsonnews.net/guide
SUMMARY:Bully Breed Dog Pageant
DESCRIPTION:    On Friday\, Feb. 6\, Lucky Dog Bark &amp; Brew in Cornelius is holding a Bully Beauty Pageant. Come out and support the beautiful bully breed dogs! Pre-pageant festivities begin at 7 p.m.\, and the pageant starts at 8 p.m. Enter your bully in the pageant with a $10 donation to Bullies 2 the Rescue. Sign up at the door or online at www.bullies2therescue.com.  Ten percent of sales during the event will be donated to Bullies 2 the Rescue along with proceeds from a 50/50 raffle. Prizes will be awarded to winners.    The Plated Palette food truck will be on location from 5-9 p.m.    
URL:http://davidsonnews.net/guide/event/bully-breed-dog-pageant/
LOCATION:19607 Statesville Rd., Cornelius, NC, 28031, United States
CATEGORIES:Food & Drink,Fundraisers,Pets
END:VEVENT
BEGIN:VEVENT
DTSTART;VALUE=DATE-TIME:20150206T200000
DTEND;VALUE=DATE-TIME:20150206T220000
DTSTAMP:20150531T182704
CREATED:20150105T135822
LAST-MODIFIED:20150105T135822
UID:27886-1423252800-1423260000@http://davidsonnews.net/guide
SUMMARY:Theater: '2-Across'
DESCRIPTION:"2-Across\," a play by Jerry Mayer about a chance meeting of strangers\, will run Fridays and Saturdays Jan. 30-31 and Feb. 6-7 at 8pm at the Warehouse Performing Arts Center\, Cornelius.    Directed by Rachel Jeffreys and featuring Mara Rosenberg and Phil Robertson\, “2-Across” is a story about a man and a woman who meet on a San Francisco commuter train at 4:30am. They're alone\, both working on The New York Times crossword. Their 80-minute ride from the airport to the end of the line at Bay Point is full of surprises and possibilities.    Tickets: $15 in advance\, $18 at the door. Reservations: 704-619-0429 or online at WarehousePAC.com
URL:http://davidsonnews.net/guide/event/theater-2-across/2015-02-06/
LOCATION:9216-A Westmoreland Road, Cornelius, NC, United States
CATEGORIES:Theatre
END:VEVENT
BEGIN:VEVENT
DTSTART;VALUE=DATE-TIME:20150206T200000
DTEND;VALUE=DATE-TIME:20150206T230000
DTSTAMP:20150531T182704
CREATED:20150204T105702
LAST-MODIFIED:20150204T110053
UID:28565-1423252800-1423263600@http://davidsonnews.net/guide
SUMMARY:Joe Steele benefit concert
DESCRIPTION:Davidson Local will perform a benefit concert at Summit Coffee Friday night from 8-11 to raise money for Joe Steele and his family. Joe is the Davidson College Physical Plant worker who was badly burned last month in a steam-heater accident on campus.      Shaw Smith will say a few words about Joe and they’ll pass the hat.  Musical performers include Davidson faculty members Durwin Striplin\, Shelley Rigger\, Jonathan Berkey\, Carole Kruger and John Wertheimer; students Jacob Luftglass\, Betsy Marshall\, Ethan Whitener\, Courtney Baldwin\, and Jack Goffinet; and assorted others.      
URL:http://davidsonnews.net/guide/event/joe-steele-benefit-concert/
LOCATION:128 S. Main St., Davidson, NC, 28036, United States
CATEGORIES:Fundraisers,Music
END:VEVENT
BEGIN:VEVENT
DTSTART;VALUE=DATE-TIME:
DTEND;VALUE=DATE-TIME:
DTSTAMP:20150531T182704
CREATED:0
LAST-MODIFIED:0
UID:0--@http://davidsonnews.net/guide
SUMMARY:
DESCRIPTION:
URL:
END:VEVENT
END:VCALENDAR