BEGIN:VCALENDAR
VERSION:2.0
PRODID:-//DavidsonNews.net Guide - ECPv3.7//NONSGML v1.0//EN
CALSCALE:GREGORIAN
METHOD:PUBLISH
X-WR-CALNAME:DavidsonNews.net Guide
X-ORIGINAL-URL:http://davidsonnews.net/guide
X-WR-CALDESC:Events for DavidsonNews.net Guide
BEGIN:VEVENT
DTSTART;VALUE=DATE-TIME:20150201T070000
DTEND;VALUE=DATE-TIME:20150201T170000
DTSTAMP:20150531T182928
CREATED:20141228T182144
LAST-MODIFIED:20150129T100834
UID:27598-1422774000-1422810000@http://davidsonnews.net/guide
SUMMARY:Rumpelstiltskin
DESCRIPTION:  A bragging father\, a poor king\, a lot of straw\, and a funny little man make for a not- to-miss performance of this classic and cautionary fairy tale.  Join us for this funny production that is guaranteed fun family entertainment.    A producing partnership between Davidson Community Players and Davidson Day School
URL:http://davidsonnews.net/guide/event/rumpelstiltskin-2015-02-01/
LOCATION:750 Jetton Street, Davidson, NC, United States
GEO:-80.860489;35.503543
CATEGORIES:Kids,Theatre
END:VEVENT
BEGIN:VEVENT
DTSTART;VALUE=DATE-TIME:20150201T133000
DTEND;VALUE=DATE-TIME:20150201T150000
DTSTAMP:20150531T182928
CREATED:20150129T102357
LAST-MODIFIED:20150129T102357
UID:28367-1422797400-1422802800@http://davidsonnews.net/guide
SUMMARY:Theater: 'Rumpelstiltskin'
DESCRIPTION:A bragging father\, a poor king\, a lot of straw\, and a funny little man make for a not- to-miss performance of this classic and cautionary fairy tale. Join us for this funny production that is guaranteed fun family entertainment.  A producing partnership between Davidson Community Players and Davidson Day School
URL:http://davidsonnews.net/guide/event/theater-rumpelstiltskin-2/2015-02-01/
LOCATION:750 Jetton Street, Davidson, NC, United States
GEO:-80.860489;35.503543
CATEGORIES:Kids,Theatre
END:VEVENT
BEGIN:VEVENT
DTSTART;VALUE=DATE-TIME:20150201T150000
DTEND;VALUE=DATE-TIME:20150201T160000
DTSTAMP:20150531T182928
CREATED:20150126T203252
LAST-MODIFIED:20150126T203252
UID:28273-1422802800-1422806400@http://davidsonnews.net/guide
SUMMARY:Free piano recital
DESCRIPTION:The public is invited to a piano recital featuring students from the Davidson studio of Theresa Woody. With students ranging from age 6 to 16\, the music will be varied: from beginner's pieces to standards in the classical literature\, including works by C.P.E. Bach\, Mozart\, and Beethoven.    With a music degree from UNC-Chapel Hill\, Woody focuses on the basics of playing and reading music. Her students demonstrate mastery of the skills required to perform well.    Admission is free on Sunday\, Feb. 1 at 3pm\, in the sanctuary of Davidson College Presbyterian Church. Reception follows.
URL:http://davidsonnews.net/guide/event/free-piano-recital/
LOCATION:100 N Main St, Davidson, NC, 28036, United States
CATEGORIES:Kids,Music
END:VEVENT
BEGIN:VEVENT
DTSTART;VALUE=DATE-TIME:20150201T150000
DTEND;VALUE=DATE-TIME:20150201T170000
DTSTAMP:20150531T182928
CREATED:20150127T141502
LAST-MODIFIED:20150127T141502
UID:28295-1422802800-1422810000@http://davidsonnews.net/guide
SUMMARY:Davidson Concert Series: Cello-piano duo
DESCRIPTION:[caption id="attachment_28299" align="alignleft" width="197"] Protopopescu (left) and Pae[/caption]    The Davidson College Concert Series presents cellist Deborah Pae and pianist Dana Protopopescu on Sunday\, Feb. 1\, 2015\, at 3pm in Tyler-Tallman Hall. See also other music events below.     We're giving away pairs of tickets\, with a drawing Thursday\, Jan. 29\, at noon. If you're interested\, email Lyndsay (ads@davidsonnews.net) before the drawing.      Pae is a seasoned soloist\, recitalist and chamber musician. Since her international debut in 2003 at the 45th Annual Grammy Awards and her European recital debut at the Louvre in 2005\, Pae has performed across four continents and in dozens of countries\, sharing the stage with celebrated artists Itzhak Perlman\, Arnold Steinhardt\, Pamela Frank\, Miriam Fried and more.    Protopopescu is a well known chamber musician and solo pianist\, who debuted at age 16 with the Brasov Philharmonic Orchestra. She made a name for herself performing at piano competitions and with European conductors and orchestras. She has performed in the past with the Davidson Trio.    The concert will include works by Bach\, Barber\, Tchaikovsky and Brahms. Davidson cellist Alan Black will join the duo for a special piece by Astor Piazzolla.    Individual tickets cost $5-$17. For tickets\, contact the box office at 704-894-2135 or visit them online at davidson.edu/tickets. For more information\, call 704-894-2848 or visit davidson.edu/music.  
URL:http://davidsonnews.net/guide/event/davidson-concert-series-cello-piano-duo/
LOCATION:Davidson College, NC, United States
GEO:-80.847465;35.502229
CATEGORIES:Davidson College,Music
END:VEVENT
BEGIN:VEVENT
DTSTART;VALUE=DATE-TIME:20150201T163000
DTEND;VALUE=DATE-TIME:20150201T180000
DTSTAMP:20150531T182928
CREATED:20150129T102501
LAST-MODIFIED:20150129T102501
UID:28366-1422808200-1422813600@http://davidsonnews.net/guide
SUMMARY:Theater: 'Rumpelstiltskin'
DESCRIPTION:A bragging father\, a poor king\, a lot of straw\, and a funny little man make for a not- to-miss performance of this classic and cautionary fairy tale. Join us for this funny production that is guaranteed fun family entertainment. A producing partnership between Davidson Community Players Connie Co. children's theater and Davidson Day School.  
URL:http://davidsonnews.net/guide/event/theater-rumpelstiltskin-3/2015-02-01/
LOCATION:750 Jetton Street, Davidson, NC, United States
GEO:-80.860489;35.503543
CATEGORIES:Kids,Theatre
END:VEVENT
BEGIN:VEVENT
DTSTART;VALUE=DATE-TIME:
DTEND;VALUE=DATE-TIME:
DTSTAMP:20150531T182928
CREATED:0
LAST-MODIFIED:0
UID:0--@http://davidsonnews.net/guide
SUMMARY:
DESCRIPTION:
URL:
END:VEVENT
END:VCALENDAR