BEGIN:VCALENDAR
VERSION:2.0
PRODID:-//DavidsonNews.net Guide - ECPv3.7//NONSGML v1.0//EN
CALSCALE:GREGORIAN
METHOD:PUBLISH
X-WR-CALNAME:DavidsonNews.net Guide
X-ORIGINAL-URL:http://davidsonnews.net/guide
X-WR-CALDESC:Events for DavidsonNews.net Guide
BEGIN:VEVENT
DTSTART;VALUE=DATE:20141026
DTEND;VALUE=DATE:20141028
DTSTAMP:20150531T225550
CREATED:20141022T141242
LAST-MODIFIED:20141022T141407
UID:26237-1414281600-1414454400@http://davidsonnews.net/guide
SUMMARY:Davidson College Family Weekend
DESCRIPTION:Davidson College Family Weekend 2014 runs Friday\, Oct. 24\, to Sunday\, Oct. 26.  Visitors will be visiting classrooms\, attending theatrical and musical performances and sporting events\, meeting faculty and staff\, and strolling Main Street in downtown Davidson.     See the Fall 2014 Family Weekend schedule for details. 
URL:http://davidsonnews.net/guide/event/davidson-college-family-weekend/2014-10-26/
LOCATION:405 N. Main St., Davidson, NC, 28036, United States
CATEGORIES:Davidson College
END:VEVENT
BEGIN:VEVENT
DTSTART;VALUE=DATE-TIME:20141026T094500
DTEND;VALUE=DATE-TIME:20141026T233000
DTSTAMP:20150531T225550
CREATED:20141007T183307
LAST-MODIFIED:20141013T102849
UID:25866-1414316700-1414366200@http://davidsonnews.net/guide
SUMMARY:Covenant class
DESCRIPTION:Davidson College Presbyterian Church is offering a Covenant class entitled: “A Cursory Introduction to Tolkein.” W. Glenn Kirkconnell\, Adjunct Professor of Philosophy and Religious Studies at Santa Fe College\, will lead this program during October. With the newest “Hobbit” movie set to open in December\, this is a good time to look at the religious implications of the writings of J.R.R. Tolkien.
URL:http://davidsonnews.net/guide/event/covenant-class/2014-10-26/
LOCATION:100 N Main St, Davidson, NC, 28036, United States
CATEGORIES:Classes,Faith & Spirituality
END:VEVENT
BEGIN:VEVENT
DTSTART;VALUE=DATE-TIME:20141026T100000
DTEND;VALUE=DATE-TIME:20141026T173000
DTSTAMP:20150531T225550
CREATED:20140729T205237
LAST-MODIFIED:20140829T141157
UID:24249-1414317600-1414344600@http://davidsonnews.net/guide
SUMMARY:Carolina Renaissance Festival
DESCRIPTION:The Carolina Renaissance Festival was introduced in 1994 with six acres of exhibits\, attractions and entertainment. The event has grown into a twenty acre theme park filled with charming cottages and castles\, kitchens and pubs\, and a most unusual collection of people powered rides and games of skill - all nestled in 325 acres of pristine woodlands just north of Charlotte\, NC.    This is one of the most interactive entertainment shows ever created with wonderful amusements and antics ongoing all around you! You can sit back and watch\, or you can become a part of the action\, surrounded by over 500 costumed characters roaming the festival village. The village lanes are full of peasants singing sea-faring songs and street entertainers surprising you with tall tales and tricks\, each with a role to play.  
URL:http://davidsonnews.net/guide/event/carolina-renaissance-festival-2/2014-10-26/
LOCATION:16445 Poplar Tent Road  , Huntersville, NC, United States
GEO:-80.769017;35.42902
CATEGORIES:Festivals
END:VEVENT
BEGIN:VEVENT
DTSTART;VALUE=DATE-TIME:20141026T100000
DTEND;VALUE=DATE-TIME:20141026T180000
DTSTAMP:20150531T225550
CREATED:20140928T191150
LAST-MODIFIED:20141022T102657
UID:25602-1414317600-1414346400@http://davidsonnews.net/guide
SUMMARY:Lakeside Artists Studio Tour
DESCRIPTION:The annual Lakeside Artists Studio Tour has become a popular cultural event in the Lake Norman area.  The 2009 inaugural event drew over 500 attendees over a day and a half. We expect even more visitors this year because we are extending the event to three days; Friday\, Saturday and Sunday.  Our tag line is “one of a kind art directly from the artists”\, ensuring visitors unique works of art they won’t find everywhere else.  We also offer visitors an open tour of our studios providing an insider’s view of the artists working environment.      For the convenience of our visitors\, each location will have several artists. Mediums include wood\, fiber\, ceramics\, paintings\, sculpture\, furniture\, jewelry\, etc.    2014 Show Dates: Friday October 24\, Saturday October 25\, and Sunday October 26.     Find studio locations at http://lknstudios.com/
URL:http://davidsonnews.net/guide/event/artist-tour/2014-10-26/
LOCATION:NC
CATEGORIES:Arts,Visual Arts
END:VEVENT
BEGIN:VEVENT
DTSTART;VALUE=DATE-TIME:20141026T100000
DTEND;VALUE=DATE-TIME:20141026T160000
DTSTAMP:20150531T225550
CREATED:20141013T183246
LAST-MODIFIED:20141013T183246
UID:26043-1414317600-1414339200@http://davidsonnews.net/guide
SUMMARY:BooTanical
DESCRIPTION:Daniel Stowe Botanical Garden presents BooTanical family Kids Lost Hollow The Garden’s popular pre-Halloween event\, is bigger\, better and shall we say a little bolder than ever. In addition to not-so-scary activities for the younger set\, the Garden is adding activities for everyone in the family. Join the costume parade in Lost Hollow. Come chunk a pumpkin or two on the festival field or watch the pumpkin float in the fountain. This isn’t just for kids – hayrides\, fire pits and sampling fall beers and wines will be available as well! Bootanical is free with general admission. All children wearing costumes will receive free admission to the Garden. 
URL:http://davidsonnews.net/guide/event/bootanical/2014-10-26/
LOCATION:6500 South New Hope Road, Belmont, NC, United States
GEO:-81.056866;35.1676604
CATEGORIES:Exhibits,Film,Kids
END:VEVENT
BEGIN:VEVENT
DTSTART;VALUE=DATE-TIME:20141026T110000
DTEND;VALUE=DATE-TIME:20141026T170000
DTSTAMP:20150531T225550
CREATED:20141007T193548
LAST-MODIFIED:20141007T193548
UID:25892-1414321200-1414342800@http://davidsonnews.net/guide
SUMMARY:Birkdale Village: Greater Charlotte Fine Art Festival 
DESCRIPTION:Are you an art collector or just enjoy purchasing art to beautify you home or office? Then join us at Birkdale Village October 25-26\, 2014 for the 4th Annual Greater Charlotte Fine Art Festival and a journey thru an extraordinary outdoor art gallery created from the original handmade works of artisans from across America. Choose from paintings\, jewelry\, sculpture\, photography ceramics\, glass\, mixed-media\, woodworking – and much more!       Hours of the art festival are Saturday October 25 from 10am to 5pm and Sunday October 26 from 11am to 5pm. Admission and parking are free. You need only bring your sense of discovery and appreciation of the beautiful!  Oh yes – wallets and purses are mandatory as all artwork is for sale!     .  
URL:http://davidsonnews.net/guide/event/birkdale-village-greater-charlotte-fine-art-festival-2/
LOCATION:Huntersville, NC, United States
CATEGORIES:Arts,Festivals
END:VEVENT
BEGIN:VEVENT
DTSTART;VALUE=DATE-TIME:20141026T140000
DTEND;VALUE=DATE-TIME:20141026T170000
DTSTAMP:20150531T225550
CREATED:20140910T212705
LAST-MODIFIED:20140910T212705
UID:25015-1414332000-1414342800@http://davidsonnews.net/guide
SUMMARY:Davidson College Department of Theatre Presents: She Stoops to Conquer
DESCRIPTION:Written by Oliver Goldsmith  •  Directed by Mark Sutch  One of the great comedies of the English language\, She Stoops to Conquer is a playful romp of extremes\, poking hilarious fun at the gap between what we do in polite company and what we might do\, well...otherwise. Recommended for ages 11 and up.  General Admission: $15; Seniors: $12; Faculty/Staff: $10; Students: $6
URL:http://davidsonnews.net/guide/event/davidson-college-department-of-theatre-presents-she-stoops-to-conquer/
LOCATION:Baker Drive, Davidson, NC, 28035, United States
CATEGORIES:Arts
ORGANIZER;CN=Annie Wadman:MAILTO:anwadman@davidson.edu
END:VEVENT
BEGIN:VEVENT
DTSTART;VALUE=DATE-TIME:20141026T140000
DTEND;VALUE=DATE-TIME:20141026T160000
DTSTAMP:20150531T225550
CREATED:20141023T205247
LAST-MODIFIED:20141023T205247
UID:26248-1414332000-1414339200@http://davidsonnews.net/guide
SUMMARY: "The Heights"
DESCRIPTION:The talents of students from all across the region\, including 7 high schools and several home schooled students\, spanning 3 counties\, will present a local version of the Tony-award winning broadway musical In The Heights.   This production is about life in a tight knit community in Washington Heights\, NYC.  The rhythm of life spans 3 generations.   At the center of the show is Usnavi (David Lawrence)\, a shop owner who dreams of winning the lottery and escaping back to his homeland of the Dominican Republic. His close childhood friend Nina (Samantha Rockhill) has returned from her first year of college. Nina\, the first to make it out of the barrio\, comes home with surprising news for her parents who have spent their life savings to create a better path for their daughter. 
URL:http://davidsonnews.net/guide/event/the-heights-2/
LOCATION:404 Armour Street, Davidson, NC, 28036, United States
GEO:-80.853226;35.508087
END:VEVENT
BEGIN:VEVENT
DTSTART;VALUE=DATE-TIME:20141026T170000
DTEND;VALUE=DATE-TIME:20141026T190000
DTSTAMP:20150531T225550
CREATED:20141023T210421
LAST-MODIFIED:20141023T210421
UID:26253-1414342800-1414350000@http://davidsonnews.net/guide
SUMMARY:The Birdsnest: Dupont Brothers
DESCRIPTION:Dupont Brothers are two brothers reunite after years of geographical separation by a fortified collaboration in music. Blending the contemplative winters of the northeast with the solitary beauty of southwestern desert\, Sam and Zack DuPont are now coconspirators in a shared passion that runs deep in their family. This Burlington Vermont made duo has hit the ground running since the formation of the group in March of 2013. The brothers have recently shared the stage with Grace Potter and the Nocturnals\, Ben Sollee\, Gin Wigmore\, Chris Thomas King\, Langhorne Slim\, Howie Day and The Lone Bellow to name a few. Lush finger-style guitar work is complimented by elegant prose and a vocal blend that could only be matched by blood relation. The sound is Vermont made Folk-Americana.    http://www.dupontbrothersmusic.com      
URL:http://davidsonnews.net/guide/event/the-birdsnest-dupont-brothers/
LOCATION:102 B South Main St, Davidson, NC, 28036, United States
CATEGORIES:Music
END:VEVENT
BEGIN:VEVENT
DTSTART;VALUE=DATE-TIME:20141026T170000
DTEND;VALUE=DATE-TIME:20141026T190000
DTSTAMP:20150531T225550
CREATED:20141014T180226
LAST-MODIFIED:20141015T163306
UID:26086-1414342800-1414350000@http://davidsonnews.net/guide
SUMMARY:'Trunk or Treat'
DESCRIPTION:Bethel Presbyterian Church will host its annual 'trunk or treat' on Sunday\, October 26th. Children are encouraged to come in thier favorite costumes and parade through the "decorated" cars in a safe environment. Everyone in the community is welcomed to join for this fun and free event which included a hot dog dinner\, a Bruster's ice cream truck\, hayrides\, a bounce castle\, a video game truck\, prizes\, candy and more!
URL:http://davidsonnews.net/guide/event/trunk-or-treat/
LOCATION:19920 Bethel Church Road, Cornelius, NC, 28031, United States
CATEGORIES:Festivals,Food & Drink,Kids
END:VEVENT
BEGIN:VEVENT
DTSTART;VALUE=DATE-TIME:20141026T183000
DTEND;VALUE=DATE-TIME:20141026T220000
DTSTAMP:20150531T225550
CREATED:20141013T185224
LAST-MODIFIED:20141013T185224
UID:26054-1414348200-1414360800@http://davidsonnews.net/guide
SUMMARY:Scarrigan Farms
DESCRIPTION:On select October nights our 130 acre farm is transformed into the scariest haunted trail in the region. If you are looking for a new and out of the ordinary way to get your heart pumping and adrenaline rushing this October\, Scarrigan Farms is the place for you.    This is not a trail for kids. If you’re under 12 come back when you’re old enough. We’ll be waiting. If someone hasn’t peed in their pants by the end of the night we know we haven’t done our job. (cash only accepted for all ticket payments)    Ticket sales begin nightly at 6:30 PM (first victims enter at dark) and cease at 10:00 PM. Closing time varies based on attendance and we reserve right to close early. Please arrive before 9pm nightly to purchase tickets.
URL:http://davidsonnews.net/guide/event/scarrigan-farms-5/2014-10-26/
LOCATION:NC, United States
GEO:-79.0192997;35.7595731
CATEGORIES:Exhibits,Festivals,Kids
END:VEVENT
BEGIN:VEVENT
DTSTART;VALUE=DATE-TIME:20141026T190000
DTEND;VALUE=DATE-TIME:20141026T210000
DTSTAMP:20150531T225550
CREATED:20140806T211405
LAST-MODIFIED:20140829T141206
UID:24287-1414350000-1414357200@http://davidsonnews.net/guide
SUMMARY:Ghost Walk
DESCRIPTION:  Ghost Walk of Davidson leaves nightly at 7pm from the Soda Shop\, 104 S. Main St. Ms. Grzech takes a maximum of 18 people and says she’s had several sellouts so far. Tours are $10 for adults\, $5 for children 8-12. Reservations are permitted (704-928-5452). For more information\, visit    ghostwalknc.com/      A Ghost Walk is a guided walking tour of the town with a twist. You will receive a guided historic tour of Davidson\, a lovely\, small town rich in history and folklore\, while listening to the local history\, ghost stories  and local haunts. The walking tour lasts about two hours. Take a walk down Davidson’s Main Street lined with quaint shops in turn-of-the-century buildings and stroll through the historic Davidson College campus. Main Street Davidson offers an enticing array of antiques\, books\, clothing\, gifts and more in this quaint town. Tours are offered year-round by reservation. Hear stories about General William Lee Davidson and the Corpse of Chambers Hall.    
URL:http://davidsonnews.net/guide/event/ghost-walk/2014-10-26/
LOCATION:Davidson, NC, 28036, United States
ORGANIZER;CN=Unnamed Organizer:MAILTO:ghostwalknc@gmail.com
END:VEVENT
BEGIN:VEVENT
DTSTART;VALUE=DATE-TIME:20141026T190000
DTEND;VALUE=DATE-TIME:20141026T233000
DTSTAMP:20150531T225550
CREATED:20141013T184848
LAST-MODIFIED:20141013T184848
UID:26077-1414350000-1414366200@http://davidsonnews.net/guide
SUMMARY:Fear Farm haunted house
DESCRIPTION:The Fear Farm haunted house is located in Blacksburg\, SC. If you are looking for haunted houses in SC or NC or haunted trails in SC or NC then The Fear Farm is the place to come! We are minutes from I-85 and Hwy 5 at 424 Ninety-Nine Island Rd. Blacksburg\, SC 29702\, making us one of the best haunted houses near Charlotte\, Rock Hill\, Shelby\, Greenville\, and everywhere in between! We make it worth the drive! Due to high gas prices\, we kept parking FREE again this year!  424 Ninety-Nine Island Rd.   Blacksburg\, SC
URL:http://davidsonnews.net/guide/event/fear-farm-haunted-house/2014-10-26/
LOCATION:424 Ninety-Nine Island Rd., Blacksburg, SC, NC, United States
GEO:-81.5090873;35.0678473
END:VEVENT
BEGIN:VEVENT
DTSTART;VALUE=DATE-TIME:20141026T193000
DTEND;VALUE=DATE-TIME:20141026T210000
DTSTAMP:20150531T225550
CREATED:20141013T193204
LAST-MODIFIED:20141013T193204
UID:26075-1414351800-1414357200@http://davidsonnews.net/guide
SUMMARY:Omimeo's Black Light Magic: Halloween Dream
DESCRIPTION:Join Charlotte's Omimeo Mime Theatre as they bring you into a marvelous\, luminescent reality\, full of crazy characters\, unusual illusions and spectacular special effects. Follow the story of a young trick-or-treater as she magically travels from her bedroom to a fantastical world of dreams\, masks and haunting images -- with just the right amount of Halloween chills! Wear your Halloween costume\, fluorescent or white clothes and you’ll really be part of the show!      One Act • Recommended for Ages 5+ (with some age-appropriate "spookiness")     Schedule:  Black Light Magic: Halloween Dream - Friday\, Oct. 24\, 7:30pm    Black Light Magic: Halloween Dream - Saturday\, Oct. 25\, 1pm    Black Light Magic: Halloween Dream - Saturday\, Oct. 25\, 3pm    Black Light Magic: Halloween Dream - Sunday\, Oct. 26\, 2pm            
URL:http://davidsonnews.net/guide/event/omimeos-black-light-magic-halloween-dream/2014-10-26/
LOCATION:300 E. 7th St., Charlotte, NC, United States
GEO:-80.837735;35.227223
CATEGORIES:Kids,Theatre
END:VEVENT
BEGIN:VEVENT
DTSTART;VALUE=DATE-TIME:
DTEND;VALUE=DATE-TIME:
DTSTAMP:20150531T225550
CREATED:0
LAST-MODIFIED:0
UID:0--@http://davidsonnews.net/guide
SUMMARY:
DESCRIPTION:
URL:
END:VEVENT
END:VCALENDAR